BEGIN:VCALENDAR
VERSION:2.0
PRODID:-//ChamberMaster//Event Calendar 2.0//EN
METHOD:PUBLISH
X-PUBLISHED-TTL:P3D
REFRESH-INTERVAL:P3D
CALSCALE:GREGORIAN
BEGIN:VEVENT
DTSTART:20140524T160000Z
DTEND:20140524T220000Z
X-MICROSOFT-CDO-ALLDAYEVENT:FALSE
SUMMARY:Jiffy Lube Grand Opening Ribbon Cuttings
DESCRIPTION:Jiffy Lube will host  a pair of ribbon cutting ceremonies on Saturday\, May 24th 2014\, to celebrate the grand opening of their two new stores in the Quad Cities.  The first ribbon cutting will  take place at 11:00am at 3430 Elmore Ave. in Davenport.  Beginning  at 9:00am\, Jiffy Lube will have driving simulators and NASCAR appearances.   The second ribbon cutting will occur at 12:00pm at 2777 18th Street in Bettendorf.  The Bettendorf location will have a bounce house\, balloon animal artist and face painting available to celebrate the opening of this location.   Jiffy Lube prides itself on quality customer service\, quality Pennzoil Products and having one of the nicest quick lube waiting areas in the Quad Cities.  For more information visit www.jiffylube.com.
X-ALT-DESC;FMTTYPE=text/html:<FONT face=Calibri><P style="MARGIN: 0in 0in 0pt" class=MsoNormal></P><P></FONT></P><FONT face=Calibri><P style="MARGIN: 0in 0in 0pt" class=MsoNormal>Jiffy Lube will host<SPAN style="mso-spacerun: yes">&nbsp\; </SPAN>a pair of ribbon cutting ceremonies on Saturday\, May 24<SUP>th</SUP> 2014\, to celebrate the grand opening of their&nbsp\;two new stores in the Quad Cities.<SPAN style="mso-spacerun: yes">&nbsp\; </SPAN>The first ribbon cutting will<SPAN style="mso-spacerun: yes">&nbsp\; </SPAN>take place at <B style="mso-bidi-font-weight: normal">11:00am at 3430 Elmore Ave. in Davenport</B>.<SPAN style="mso-spacerun: yes">&nbsp\; </SPAN>Beginning<SPAN style="mso-spacerun: yes">&nbsp\; </SPAN>at 9:00am\, Jiffy Lube will have driving simulators and NASCAR appearances.<SPAN style="mso-spacerun: yes">&nbsp\; </SPAN><?xml:namespace prefix = o ns = "urn:schemas-microsoft-com:office:office" /><o:p></o:p></P><P style="MARGIN: 0in 0in 0pt" class=MsoNormal><o:p>&nbsp\;</o:p></P><P style="MARGIN: 0in 0in 0pt" class=MsoNormal>The second ribbon cutting will occur at <B style="mso-bidi-font-weight: normal">12:00pm at 2777 18<SUP>th</SUP> Street in Bettendorf</B>.<SPAN style="mso-spacerun: yes">&nbsp\; </SPAN>The Bettendorf location will have a bounce house\, balloon animal artist and face painting available to celebrate the opening of this location.<SPAN style="mso-spacerun: yes">&nbsp\; </SPAN><o:p></o:p></P><P style="MARGIN: 0in 0in 0pt" class=MsoNormal><o:p>&nbsp\;</o:p></P><P style="MARGIN: 0in 0in 0pt" class=MsoNormal>Jiffy Lube prides itself on quality customer service\, quality Pennzoil Products and having one of the nicest quick lube waiting areas in the Quad Cities. <o:p></o:p></P><P style="MARGIN: 0in 0in 0pt" class=MsoNormal><o:p>&nbsp\;</o:p></P><P style="MARGIN: 0in 0in 0pt" class=MsoNormal>For more information visit <A href="http://www.jiffylube.com"><FONT color=#0000ff face="Times New Roman">www.jiffylube.com</FONT></A>.<o:p></o:p></P></FONT>
LOCATION:Jiffy Lube2777 18th St. Bettendorf\, IA 52722
UID:e.2843.801
SEQUENCE:3
DTSTAMP:20260422T093637Z
URL:https://member.quadcitieschamber.com/events/details/jiffy-lube-grand-opening-ribbon-cuttings-05-24-2014-801
END:VEVENT

END:VCALENDAR
