BEGIN:VCALENDAR
VERSION:2.0
PRODID:-//ChamberMaster//Event Calendar 2.0//EN
METHOD:PUBLISH
X-PUBLISHED-TTL:P3D
REFRESH-INTERVAL:P3D
CALSCALE:GREGORIAN
BEGIN:VEVENT
DTSTART:20180507T130000Z
DTEND:20180508T000000Z
X-MICROSOFT-CDO-ALLDAYEVENT:FALSE
SUMMARY:Jim Victor Junior Achievement Golf Classic
DESCRIPTION:Registration: 7 am | Noon Morning Shotgun: 8 am Afternoon Shotgun: 1 pm Lunch Included Preferred Ball Scramble Format (Best Shot) The 19th Hole Party: 5:30 p.m. at Crow Valley Golf Club Enjoy hors d'oeuvres\, cash bar\, and a Silent Auction following tournament play. *If the Jim Victor Junior Achievement Golf Classic must be postponed due to inclement weather\, JA will make every attempt to contact all golfers the morning of the event. The post-tournament celebration will be held on May 7 regardless of the golf classic status. Golfers will receive a voucher for future play. No refunds will be issued due to the postponement of the golf classic because of inclement weather.
X-ALT-DESC;FMTTYPE=text/html:Registration: 7 am | Noon Morning Shotgun: 8 am Afternoon Shotgun: 1 pm Lunch Included Preferred Ball Scramble Format (Best Shot) The 19th Hole Party: 5:30 p.m. at Crow Valley Golf Club Enjoy hors d&#39\;oeuvres\, cash bar\, and a Silent Auction following tournament play. *If the Jim Victor Junior Achievement Golf Classic must be postponed due to inclement weather\, JA will make every attempt to contact all golfers the morning of the event. The post-tournament celebration will be held on May 7 regardless of the golf classic status. Golfers will receive a voucher for future play. No refunds will be issued due to the postponement of the golf classic because of inclement weather.
LOCATION:Crow Valley Golf Club\, Davenport 4315 E 60th St\, Davenport\, IA 52807
UID:e.2843.13161
SEQUENCE:3
DTSTAMP:20260423T110241Z
URL:https://member.quadcitieschamber.com/events/details/jim-victor-junior-achievement-golf-classic-05-07-2018-13161
END:VEVENT

END:VCALENDAR
