BEGIN:VCALENDAR
VERSION:2.0
PRODID:-//ChamberMaster//Event Calendar 2.0//EN
METHOD:PUBLISH
X-PUBLISHED-TTL:P3D
REFRESH-INTERVAL:P3D
CALSCALE:GREGORIAN
BEGIN:VEVENT
DTSTART:20170501T160000Z
DTEND:20170502T000000Z
X-MICROSOFT-CDO-ALLDAYEVENT:FALSE
SUMMARY:Jim Victor Junior Achievement Golf Classic
DESCRIPTION:CANCELED DUE TO WEATHER\n\n\n\nEnjoy a complimentary lunch\, golfer gift\, complimentary course beverages\, flag events\, raffle\, silent auction\, and the 19th Hole Party at your course with golfer prizes and hors d'oeuvres. Proceeds from this event go toward funding Junior Achievement programs in local schools from Kindergarten through High School.
X-ALT-DESC;FMTTYPE=text/html:<span style="box-sizing: content-box\; font-weight: bolder\; bottom: auto\; clear: none\; color: rgb(39\, 50\, 56)\; content: normal\; direction: inherit\; empty-cells: show\; font-variant-numeric: inherit\; font-stretch: inherit\; font-size: 16px\; font-family: Arial\, sans-serif\; left: auto\; line-height: inherit\; margin: 0px\; max-height: none\; max-width: none\; min-height: initial\; min-width: initial\; opacity: 1\; outline-offset: 0px\; overflow: visible\; padding: 0px\; position: static\; resize: none\; right: auto\; table-layout: auto\; text-overflow: clip\; top: auto\; vertical-align: baseline\; visibility: inherit\; word-break: inherit\; word-wrap: inherit\; z-index: auto\; background: none rgb(255\, 255\, 255)\; border: none\; border-collapse: separate\; border-radius: 0px\; height: auto\; width: auto\; box-shadow: none\;"><span style="box-sizing: content-box\; bottom: auto\; clear: none\; color: inherit\; content: normal\; direction: inherit\; empty-cells: show\; font-style: inherit\; font-variant: inherit\; font-weight: inherit\; font-stretch: inherit\; font-size: 22px\; font-family: inherit\; left: auto\; letter-spacing: inherit\; line-height: inherit\; margin: 0px\; max-height: none\; max-width: none\; min-height: initial\; min-width: initial\; opacity: 1\; outline-offset: 0px\; overflow: visible\; padding: 0px\; position: static\; resize: none\; right: auto\; table-layout: auto\; text-align: inherit\; text-indent: inherit\; text-overflow: clip\; text-transform: inherit\; top: auto\; vertical-align: baseline\; visibility: inherit\; white-space: inherit\; word-break: inherit\; word-spacing: inherit\; word-wrap: inherit\; z-index: auto\; background: none\; border: none\; border-collapse: separate\; border-radius: 0px\; height: auto\; width: auto\; box-shadow: none\;"><span style="box-sizing: content-box\; bottom: auto\; clear: none\; color: rgb(255\, 0\, 0)\; content: normal\; direction: inherit\; empty-cells: show\; font-style: inherit\; font-variant: inherit\; font-weight: inherit\; font-stretch: inherit\; font-size: inherit\; font-family: inherit\; left: auto\; letter-spacing: inherit\; line-height: inherit\; margin: 0px\; max-height: none\; max-width: none\; min-height: initial\; min-width: initial\; opacity: 1\; outline-offset: 0px\; overflow: visible\; padding: 0px\; position: static\; resize: none\; right: auto\; table-layout: auto\; text-align: inherit\; text-indent: inherit\; text-overflow: clip\; text-transform: inherit\; top: auto\; vertical-align: baseline\; visibility: inherit\; white-space: inherit\; word-break: inherit\; word-spacing: inherit\; word-wrap: inherit\; z-index: auto\; background: none\; border: none\; border-collapse: separate\; border-radius: 0px\; height: auto\; width: auto\; box-shadow: none\;"><span style="box-sizing: content-box\; bottom: auto\; clear: none\; color: inherit\; content: normal\; direction: inherit\; empty-cells: show\; font-style: inherit\; font-variant: inherit\; font-weight: inherit\; font-stretch: inherit\; font-size: inherit\; font-family: arial\; left: auto\; letter-spacing: inherit\; line-height: inherit\; margin: 0px\; max-height: none\; max-width: none\; min-height: initial\; min-width: initial\; opacity: 1\; outline-offset: 0px\; overflow: visible\; padding: 0px\; position: static\; resize: none\; right: auto\; table-layout: auto\; text-align: inherit\; text-indent: inherit\; text-overflow: clip\; text-transform: inherit\; top: auto\; vertical-align: baseline\; visibility: inherit\; white-space: inherit\; word-break: inherit\; word-spacing: inherit\; word-wrap: inherit\; z-index: auto\; background: none\; border: none\; border-collapse: separate\; border-radius: 0px\; height: auto\; width: auto\; box-shadow: none\;"><u style="box-sizing: inherit\;">CANCELED DUE TO WEATHER</u></span></span></span></span><br />\n<br />\nEnjoy a complimentary lunch\, golfer gift\, complimentary course beverages\, flag events\, raffle\, silent auction\, and the 19th Hole Party at your course with golfer prizes and hors d&#39\;oeuvres. Proceeds from this event go toward funding Junior Achievement programs in local schools from Kindergarten through High School.
LOCATION:Crow Valley Golf Club and Davenport Country Club
UID:e.2843.5792
SEQUENCE:3
DTSTAMP:20260424T044049Z
URL:https://member.quadcitieschamber.com/events/details/jim-victor-junior-achievement-golf-classic-5792
END:VEVENT

END:VCALENDAR
