BEGIN:VCALENDAR
VERSION:2.0
PRODID:-//ChamberMaster//Event Calendar 2.0//EN
METHOD:PUBLISH
X-PUBLISHED-TTL:P3D
REFRESH-INTERVAL:P3D
CALSCALE:GREGORIAN
BEGIN:VEVENT
DTSTART:20200803T123000Z
DTEND:20200803T230000Z
X-MICROSOFT-CDO-ALLDAYEVENT:FALSE
SUMMARY:Jim Victor Memorial Junior Achievement Golf Classic
DESCRIPTION:Jim Victor was a great supporter of JA in the Quad Cities and surrounding communities for three decades. He sponsored the Jim Victor JA Golf Classic for 18 years. His passion for JA was infectious. We will always remember him as a loyal friend\, trusted advisor\, and dedicated leader. Event Details Morning: Registration: 7 am Shotgun Start: 7:30 am 18 holes: $250 per golfer Includes: Light breakfast\, green fee\, cart\, on-course beverages\, on-course games\, lunch\, player gift\, and the 19th Hole Party Afternoon: Registration: Noon Shotgun Start: 1 pm 18 holes: $250 per golfer Includes: Green fee\, cart\, on-course beverages\, on-course games\, lunch\, player gift\, and the 19th Hole Party
X-ALT-DESC;FMTTYPE=text/html:Jim Victor was a great supporter of JA in the Quad Cities and surrounding communities for three decades. He sponsored the Jim Victor JA Golf Classic for 18 years. His passion for JA was infectious. We will always remember him as a loyal friend\, trusted advisor\, and dedicated leader. Event Details Morning: Registration: 7 am Shotgun Start: 7:30 am 18 holes: $250 per golfer Includes: Light breakfast\, green fee\, cart\, on-course beverages\, on-course games\, lunch\, player gift\, and the 19th Hole Party Afternoon: Registration: Noon Shotgun Start: 1 pm 18 holes: $250 per golfer Includes: Green fee\, cart\, on-course beverages\, on-course games\, lunch\, player gift\, and the 19th Hole Party
LOCATION:Crow Valley Golf Club\, Davenport\, IA
UID:e.2843.17784
SEQUENCE:3
DTSTAMP:20260421T141956Z
URL:https://member.quadcitieschamber.com/events/details/jim-victor-memorial-junior-achievement-golf-classic-05-04-2020-17784
END:VEVENT

END:VCALENDAR
