BEGIN:VCALENDAR
VERSION:2.0
PRODID:-//ChamberMaster//Event Calendar 2.0//EN
METHOD:PUBLISH
X-PUBLISHED-TTL:P3D
REFRESH-INTERVAL:P3D
CALSCALE:GREGORIAN
BEGIN:VEVENT
DTSTART:20190506T123000Z
DTEND:20190507T000000Z
X-MICROSOFT-CDO-ALLDAYEVENT:FALSE
SUMMARY:Jim Victor Memorial Junior Achievement Golf Classic
DESCRIPTION:Join us on the links to celebrate our friend Jim Victor and support Junior Achievement!
X-ALT-DESC;FMTTYPE=text/html:Join us on the links to celebrate our friend Jim Victor and support Junior Achievement!
LOCATION:Crow Valley Golf Club\, Davenport
UID:e.2843.13786
SEQUENCE:3
DTSTAMP:20260422T164159Z
URL:https://member.quadcitieschamber.com/events/details/jim-victor-memorial-junior-achievement-golf-classic-13786
END:VEVENT

END:VCALENDAR
