BEGIN:VCALENDAR
VERSION:2.0
PRODID:-//ChamberMaster//Event Calendar 2.0//EN
METHOD:PUBLISH
X-PUBLISHED-TTL:P3D
REFRESH-INTERVAL:P3D
CALSCALE:GREGORIAN
BEGIN:VEVENT
DTSTART:20121010T160000Z
DTEND:20121010T163000Z
X-MICROSOFT-CDO-ALLDAYEVENT:FALSE
SUMMARY:Jimmy John's Grand Opening & Ribbon Cutting
DESCRIPTION:Please help Jimmy John’s celebrate their grand opening with a ribbon cutting on Wednesday\, October 10th at 11am.  Located at 685 Avenue of the Cities\, Suite #3 in Silvis.
X-ALT-DESC;FMTTYPE=text/html:<P style="MARGIN: 0in 0in 0pt" class=MsoNormal><FONT face=Calibri>Please help Jimmy John’s celebrate their grand opening with a ribbon cutting on Wednesday\, October 10<SUP>th</SUP> at 11am.<SPAN style="mso-spacerun: yes">&nbsp\; </SPAN>Located at 685 Avenue of the Cities\, Suite #3 in Silvis.</FONT></P><DIV style="FONT-FAMILY: Arial">&nbsp\;</DIV>
LOCATION:685 Avenue of the Cities\, Suite #3 Silvis\, IL
UID:e.2843.460
SEQUENCE:3
DTSTAMP:20260421T170354Z
URL:https://member.quadcitieschamber.com/events/details/jimmy-john-s-grand-opening-ribbon-cutting-10-10-2012-460
END:VEVENT

END:VCALENDAR
