BEGIN:VCALENDAR
VERSION:2.0
PRODID:-//ChamberMaster//Event Calendar 2.0//EN
METHOD:PUBLISH
X-PUBLISHED-TTL:P3D
REFRESH-INTERVAL:P3D
CALSCALE:GREGORIAN
BEGIN:VEVENT
DTSTART:20120907T160000Z
DTEND:20120907T163000Z
X-MICROSOFT-CDO-ALLDAYEVENT:FALSE
SUMMARY:John Deere Davenport Works Ribbon Cutting
DESCRIPTION:Please help John Deere Davenport Works celebrate their new line of machinery and robots with a ribbon cutting on Friday\, September 7th\, 2012 at 11:00am.  Located at Hwy 61 and Mt Joy Rd in Davenport For more information\, visit www.deere.com
X-ALT-DESC;FMTTYPE=text/html:<P style="MARGIN: 0in 0in 0pt" class=MsoNormal><FONT face=Calibri>Please help John Deere Davenport Works celebrate their new line of machinery and robots with a ribbon cutting on Friday\, September 7<SUP>th</SUP>\, 2012 at 11:00am.<SPAN style="mso-spacerun: yes">&nbsp\; </SPAN>Located at Hwy 61 and Mt Joy Rd in Davenport</FONT></P><P style="MARGIN: 0in 0in 0pt" class=MsoNormal><?xml:namespace prefix = o ns = "urn:schemas-microsoft-com:office:office" /><o:p><FONT face=Calibri>&nbsp\;</FONT></o:p></P><P style="MARGIN: 0in 0in 0pt" class=MsoNormal><FONT face=Calibri>For more information\, visit </FONT><A href="http://www.deere.com"><FONT face="Times New Roman">www.deere.com</FONT></A><FONT face=Calibri> </FONT></P><DIV>&nbsp\;</DIV>
LOCATION:John Deere Davenport WorksHwy 61 and Mt Joy Rd Davenport\, IA
UID:e.2843.426
SEQUENCE:3
DTSTAMP:20260421T184402Z
URL:https://member.quadcitieschamber.com/events/details/john-deere-davenport-works-ribbon-cutting-09-07-2012-426
END:VEVENT

END:VCALENDAR
