BEGIN:VCALENDAR
VERSION:2.0
PRODID:-//ChamberMaster//Event Calendar 2.0//EN
METHOD:PUBLISH
X-PUBLISHED-TTL:P3D
REFRESH-INTERVAL:P3D
CALSCALE:GREGORIAN
BEGIN:VEVENT
DTSTART:20120215T160000Z
DTEND:20120215T170000Z
X-MICROSOFT-CDO-ALLDAYEVENT:FALSE
SUMMARY:John Deere Pavilion Grand Re-Opening
DESCRIPTION:Please help us celebrate the Grand Re-Opening of the John Deere Pavilion on Wednesday\, February 15th from 10am to 11am.  The ribbon cutting will take place at 10:30am. Visit www.deere.com\, go to the “Our Company” tab and click on “Fans & Visitors” to see the clip\, “Get a Peek at the new John Deere Pavilion”.  What an exciting project!!
X-ALT-DESC;FMTTYPE=text/html:<DIV><FONT face=Calibri><P style="MARGIN: 0in 0in 0pt" class=MsoNormal>Please help us celebrate the Grand Re-Opening of the John Deere Pavilion on Wednesday\, February 15<SUP>th</SUP> from 10am to 11am.<SPAN style="mso-spacerun: yes">&nbsp\; </SPAN>The ribbon cutting will take place at 10:30am.</P><P style="MARGIN: 0in 0in 0pt" class=MsoNormal><?xml:namespace prefix = o ns = "urn:schemas-microsoft-com:office:office" /><o:p>&nbsp\;</o:p></P><P style="MARGIN: 0in 0in 0pt" class=MsoNormal>Visit <A href="http://www.deere.com"><FONT face="Times New Roman">www.deere.com</FONT></A>\, go to the “Our Company” tab and click on “Fans &amp\; Visitors” to see the clip\, “Get a Peek at the new John Deere Pavilion”.<SPAN style="mso-spacerun: yes">&nbsp\; </SPAN>What an exciting project!!</P><P style="MARGIN: 0in 0in 0pt" class=MsoNormal>&nbsp\;</P></FONT></DIV>
LOCATION:John Deere Pavilion1400 River Drive Moline\, IL 61265
UID:e.2843.347
SEQUENCE:3
DTSTAMP:20260422T080558Z
URL:https://member.quadcitieschamber.com/events/details/john-deere-pavilion-grand-re-opening-02-15-2012-347
END:VEVENT

END:VCALENDAR
