BEGIN:VCALENDAR
VERSION:2.0
PRODID:-//ChamberMaster//Event Calendar 2.0//EN
METHOD:PUBLISH
X-PUBLISHED-TTL:P3D
REFRESH-INTERVAL:P3D
CALSCALE:GREGORIAN
BEGIN:VEVENT
DTSTART:20171111T160000Z
DTEND:20171111T200000Z
X-MICROSOFT-CDO-ALLDAYEVENT:FALSE
SUMMARY:John Deere Store Grand Re-Opening Event
DESCRIPTION:The John Deere Store is undergoing final touches of a multi-phased makeover and will celebrate its reopening with free John Deere hats to the first 100 shoppers\, while the first 50 kids (16 years of age and younger) will receive a free 1/64 scale John Deere toy. Doors will open for the celebration at 10 a.m. on Saturday\, Nov. 11.\n\n\n\nOther reopening highlights include a photo booth to capture the fun\, free hot cocoa and cookies\, and an outdoor track where kids can ride a battery-operated John Deere Gator. In honor of the Pavilion and Store's 20-year anniversary\, roll-back pricing will be offered on select items including hats\, t-shirts\, and toys.  These products will be priced as they were when the store first opened in 1997. Also throughout the day\, 300 guests will receive a scratch off coupon worth 10\, 20 or 30 percent off purchases at the John Deere Store and visitors can enter raffles for stake wagons\, games and a John Deere Gator.
X-ALT-DESC;FMTTYPE=text/html:<br />\n<span style="font-size:16px\;"><span style="font-family:arial\;">The John Deere Store is undergoing final touches of a multi-phased makeover and will celebrate its reopening with free John Deere hats to the first 100 shoppers\, while the first 50 kids (16 years of age and younger) will receive a free 1/64 scale John Deere toy. Doors will open for the celebration at 10 a.m. on Saturday\, Nov. 11.<br />\n<br />\nOther reopening highlights include a photo booth to capture the fun\, free hot cocoa and cookies\, and an outdoor track where kids can ride a battery-operated John Deere Gator. In honor of the Pavilion and Store&rsquo\;s 20-year anniversary\, roll-back pricing will be offered on select items including hats\, t-shirts\, and toys.&nbsp\; These products will be priced as they were when the store first opened in 1997.&nbsp\;Also throughout the day\, 300 guests will receive a scratch off coupon worth 10\, 20 or 30 percent off purchases at the John Deere Store and visitors can enter raffles for stake wagons\, games and a John Deere Gator. </span></span><br />\n<br />\n&nbsp\;
LOCATION:Adjacent to the John Deere Pavilion in Moline\, IL at 1300 River Drive - Suite 100.
UID:e.2843.8648
SEQUENCE:3
DTSTAMP:20260423T195024Z
URL:https://member.quadcitieschamber.com/events/details/john-deere-store-grand-re-opening-event-8648
END:VEVENT

END:VCALENDAR
