BEGIN:VCALENDAR
VERSION:2.0
PRODID:-//ChamberMaster//Event Calendar 2.0//EN
METHOD:PUBLISH
X-PUBLISHED-TTL:P3D
REFRESH-INTERVAL:P3D
CALSCALE:GREGORIAN
BEGIN:VEVENT
DTSTART:20201001T193000Z
DTEND:20201001T223000Z
X-MICROSOFT-CDO-ALLDAYEVENT:FALSE
SUMMARY:Join the CEC Team for an Oktoberfest Celebration at our Open House!
DESCRIPTION:Our Dubuque and Davenport offices both have new homes and\n\nwe invite you to visit!\n\nAt each location we will be having a\n\nribbon cutting followed by a celebration with beverages\,\n\nsnacks\, demos and drawings.\n\nMeet our CEO Kim Lehrman and chat with your\n\nfavorite CEC employee.\n\nDon't forget to RSVP below!
X-ALT-DESC;FMTTYPE=text/html:<div style="text-align:center"><span style="background-color:rgb(255\, 255\, 255)\; color:rgb(39\, 50\, 56)\; font-family:verdana\; font-size:18px">Our Dubuque and Davenport offices both have new homes and</span><br />\n<span style="background-color:rgb(255\, 255\, 255)\; color:rgb(39\, 50\, 56)\; font-family:verdana\; font-size:18px">we invite you to visit!</span></div>\n\n<div style="text-align:center"><span style="background-color:rgb(255\, 255\, 255)\; color:rgb(39\, 50\, 56)\; font-family:verdana\; font-size:18px">At each location we will be having a</span><br />\n<span style="background-color:rgb(255\, 255\, 255)\; color:rgb(39\, 50\, 56)\; font-family:verdana\; font-size:18px">ribbon cutting followed by a celebration with beverages\,</span><br />\n<span style="background-color:rgb(255\, 255\, 255)\; color:rgb(39\, 50\, 56)\; font-family:verdana\; font-size:18px">snacks\, demos and drawings.</span><br />\n<span style="background-color:rgb(255\, 255\, 255)\; color:rgb(39\, 50\, 56)\; font-family:verdana\; font-size:18px">Meet our CEO Kim Lehrman and chat with your</span></div>\n\n<div style="text-align:center"><span style="background-color:rgb(255\, 255\, 255)\; color:rgb(39\, 50\, 56)\; font-family:verdana\; font-size:18px">favorite CEC employee.</span><br />\n<span style="background-color:rgb(255\, 255\, 255)\; color:rgb(39\, 50\, 56)\; font-family:verdana\; font-size:18px">Don&#39\;t forget to RSVP below!</span><br />\n&nbsp\;</div>\n
LOCATION:CEC Davenport Office 5000 Tremont Avenue\, Building 100\, Suite 102 Davenport IA 52807
UID:e.2843.18046
SEQUENCE:3
DTSTAMP:20260421T111713Z
URL:https://member.quadcitieschamber.com/events/details/join-the-cec-team-for-an-oktoberfest-celebration-at-our-open-house-18046
END:VEVENT

END:VCALENDAR
