BEGIN:VCALENDAR
VERSION:2.0
PRODID:-//ChamberMaster//Event Calendar 2.0//EN
METHOD:PUBLISH
X-PUBLISHED-TTL:P3D
REFRESH-INTERVAL:P3D
CALSCALE:GREGORIAN
BEGIN:VEVENT
DTSTART:20120308T160000Z
DTEND:20120308T163000Z
X-MICROSOFT-CDO-ALLDAYEVENT:FALSE
SUMMARY:Jumer's Blue Square Cafe Grand Opening
DESCRIPTION:This grand opening/ribbon cutting will take place on Thursday\, March 8\, 2012 at 10am.  The program begins at 10am with the official ribbon cutting taking place at 10:30am.   The Blue Square Café\, created in the space previously occupied by the Lakeside Café and Top Hat Deli\, takes its name from the blue square that is the main element of the Delaware North Companies logo. At Blue Square Café\, guests will be able to enjoy some of the most popular\, unique and delicious food items prepared by Delaware North at places such as Soldier Field and U.S. Cellular Field in Chicago\, Busch Stadium in St. Louis\, Miller Park in Milwaukee\, Rangers Ballpark in Arlington in Texas and TD Garden in Boston\, which Delaware North owns and operates.
X-ALT-DESC;FMTTYPE=text/html:<DIV><FONT face=Calibri><P style="MARGIN: 0in 0in 0pt" class=MsoNormal>This grand opening/ribbon cutting will take place on Thursday\, March 8\, 2012 at 10am.<SPAN style="mso-spacerun: yes">&nbsp\; </SPAN>The program begins at 10am with the official <B style="mso-bidi-font-weight: normal">ribbon cutting taking place at 10:30am</B>.<SPAN style="mso-spacerun: yes">&nbsp\;&nbsp\;</SPAN></P><P style="MARGIN: 0in 0in 0pt" class=MsoNormal><SPAN style="mso-spacerun: yes"></SPAN><?xml:namespace prefix = o ns = "urn:schemas-microsoft-com:office:office" /><o:p>&nbsp\;</o:p></P><P style="MARGIN: 0in 0in 0pt" class=MsoNormal>The Blue Square Café\, created in the space previously occupied by the Lakeside Café and Top Hat Deli\, takes its name from the blue square that is the main element of the Delaware North Companies logo.</P><P style="MARGIN: 0in 0in 0pt" class=MsoNormal><o:p>&nbsp\;</o:p></P><P style="MARGIN: 0in 0in 0pt" class=MsoNormal>At Blue Square Café\, guests will be able to enjoy some of the most popular\, unique and delicious food items prepared by Delaware North at places such as Soldier Field and U.S. Cellular Field in Chicago\, Busch Stadium in St. Louis\, Miller Park in Milwaukee\, Rangers Ballpark in Arlington in Texas and TD Garden in Boston\, which Delaware North owns and operates.</P><P style="MARGIN: 0in 0in 0pt" class=MsoNormal><o:p>&nbsp\;</o:p></P><P style="MARGIN: 0in 0in 0pt" class=MsoNormal><o:p>&nbsp\;</o:p></P></FONT></DIV>
LOCATION:Jumer's Casino and Hotel777 Jumer Drive Rock Island\, IL 61201
UID:e.2843.353
SEQUENCE:3
DTSTAMP:20260422T061513Z
URL:https://member.quadcitieschamber.com/events/details/jumer-s-blue-square-cafe-grand-opening-03-08-2012-353
END:VEVENT

END:VCALENDAR
