BEGIN:VCALENDAR
VERSION:2.0
PRODID:-//ChamberMaster//Event Calendar 2.0//EN
METHOD:PUBLISH
X-PUBLISHED-TTL:P3D
REFRESH-INTERVAL:P3D
CALSCALE:GREGORIAN
BEGIN:VEVENT
DTSTART:20210226T000000Z
DTEND:20210226T010000Z
X-MICROSOFT-CDO-ALLDAYEVENT:FALSE
SUMMARY:Junior Achievement triviaBowl - Community Event
DESCRIPTION:The JA triviaBowl is coming to you virtually in February and March! Instead of coming together for an in-person bowling celebration\, we'll celebrate together online and test your trivia knowledge. Join a community event\, or create a corporate event. JA's triviaBowl is more than testing your knowledge and competitive spirit! It's about having fun teambuilding and fundraising with your colleagues\, friends\, and family to give today's students hope for tomorrow. Join us for this fun\, interactive event while providing students with the skills they need to achieve career success and financial stability.
X-ALT-DESC;FMTTYPE=text/html:The JA triviaBowl is coming to you virtually in February and March! Instead of coming together for an in-person bowling celebration\, we&rsquo\;ll celebrate together online and test your trivia knowledge. Join a community event\, or create a corporate event. JA&rsquo\;s triviaBowl is more than testing your knowledge and competitive spirit! It&rsquo\;s about having fun teambuilding and fundraising with your colleagues\, friends\, and family to give today&rsquo\;s students hope for tomorrow. Join us for this fun\, interactive event while providing students with the skills they need to achieve career success and financial stability.
LOCATION:Join us on a video conferencing platform to interact with other teams while playing trivia on Crowdpurr
UID:e.2843.18408
SEQUENCE:3
DTSTAMP:20260419T203102Z
URL:https://member.quadcitieschamber.com/events/details/junior-achievement-triviabowl-community-event-02-25-2021-18408
END:VEVENT

END:VCALENDAR
