BEGIN:VCALENDAR
VERSION:2.0
PRODID:-//ChamberMaster//Event Calendar 2.0//EN
METHOD:PUBLISH
X-PUBLISHED-TTL:P3D
REFRESH-INTERVAL:P3D
CALSCALE:GREGORIAN
BEGIN:VEVENT
DTSTART:20120809T190000Z
DTEND:20120809T193000Z
X-MICROSOFT-CDO-ALLDAYEVENT:FALSE
SUMMARY:Kahl Home Ribbon Cutting
DESCRIPTION:Please help the Kahl Home celebrate their new location with a ribbon cutting on Thursday\, August 9th at 2:00pm.  Located at 6701 Jersey Ridge Rd in Davenport – north of 53rd Street\, on Jersey Ridge Rd – corner of Jersey Ridge Road and 67th Street. For more information\, please visit www.kahlhomedav.com
X-ALT-DESC;FMTTYPE=text/html:<P style="MARGIN: 0in 0in 0pt" class=MsoNormal><FONT face=Calibri>Please help the Kahl Home celebrate their new location with a ribbon cutting on Thursday\, August 9<SUP>th</SUP> at 2:00pm.<SPAN style="mso-spacerun: yes">&nbsp\; </SPAN>Located at 6701 Jersey Ridge Rd in Davenport – north of 53<SUP>rd</SUP> Street\, on Jersey Ridge Rd – corner of Jersey Ridge Road and 67<SUP>th</SUP> Street.</FONT></P><P style="MARGIN: 0in 0in 0pt" class=MsoNormal><?xml:namespace prefix = o ns = "urn:schemas-microsoft-com:office:office" /><o:p><FONT face=Calibri>&nbsp\;</FONT></o:p></P><P style="MARGIN: 0in 0in 0pt" class=MsoNormal><FONT face=Calibri>For more information\, please visit </FONT><A href="http://www.kahlhomedav.com"><FONT face="Times New Roman">www.kahlhomedav.com</FONT></A><FONT face=Calibri> </FONT></P><DIV>&nbsp\;</DIV>
LOCATION:Kahl Home for the Aged/Infirm6701 Jersey Ridge Road Davenport\, IA 52807
UID:e.2843.408
SEQUENCE:3
DTSTAMP:20260421T201544Z
URL:https://member.quadcitieschamber.com/events/details/kahl-home-ribbon-cutting-08-09-2012-408
END:VEVENT

END:VCALENDAR
