BEGIN:VCALENDAR
VERSION:2.0
PRODID:-//ChamberMaster//Event Calendar 2.0//EN
METHOD:PUBLISH
X-PUBLISHED-TTL:P3D
REFRESH-INTERVAL:P3D
CALSCALE:GREGORIAN
BEGIN:VEVENT
DTSTART:20210422T183000Z
DTEND:20210422T193000Z
X-MICROSOFT-CDO-ALLDAYEVENT:FALSE
SUMMARY:Keeping Students Safe and Engaged in a Modern World
DESCRIPTION:Event Description\nSchool leaders\, teachers\, and parents look to admins to provide students with a safe\, high-quality education experience even as many schools continue to shift between in-person\, 100% remote\, or hybrid learning. As an admin\, knowing how to move forward with confidence is a challenge\, especially if your prime directive is\, "Get it done!"\n\nThat's where Securly and Twin State Technical Services can help.\n\nJoin us on Thursday April 22 at 1:30pm CDT as Mike Jolley\, Securly's Director of K-12 Safety discusses everything from optimizing classrooms of all kinds to round-the-clock safety for students. Lunch gift cards will be provided for those who register and attend this virtual event.\n\nOur Presenter\n\nMike is an award-winning principal from North Carolina who joined Securly to champion student safety initiatives and drive adoption of SecurlyHome\, the K-12 industry's first parent engagement solution. As a school leader with extensive first-hand experience managing incidents of student cyberbullying\, threats of violence\, and self-harm\, Mike brings the experience and passion necessary to guide school districts on their journey to enhanced student safety using the latest advanced technologies. Additionally\, Mike serves as General Manager of Securly's rapidly expanding eastern headquarters in Charlotte\, NC.\n\nWho Should Attend\n\nK-12 IT and student services professionals.\n\nAgenda\n\n45-minute \n\n\n	Learning in a modern world\n	Best practices for student safety and mental health\n	Best practices for engaging students wherever they're learning\n\n\n15-minute Q&A and interactive chat\n\n\n\nRegister Now
X-ALT-DESC;FMTTYPE=text/html:<strong>Event Description</strong>\n<p>School leaders\, teachers\, and parents look to admins to provide students with a safe\, high-quality education experience&mdash\;even as many schools continue to shift between in-person\, 100% remote\, or hybrid learning. As an admin\, knowing how to move forward with confidence is a challenge\, especially if your prime directive is\, &ldquo\;Get it done!&rdquo\;</p>\n\n<p>That&rsquo\;s where Securly and Twin State Technical Services can help.</p>\n\n<p>Join us on Thursday April 22 at 1:30pm CDT as&nbsp\;<strong>Mike Jolley</strong>\, Securly&#39\;s Director of K-12 Safety discusses&nbsp\;everything from optimizing&nbsp\;classrooms of all kinds to round-the-clock safety for students. Lunch gift cards will be provided for those who register and attend this virtual event.</p>\n\n<p><strong>Our Presenter</strong></p>\n\n<p>Mike is an award-winning principal from North Carolina who joined Securly to champion student safety initiatives and drive adoption of SecurlyHome\, the K-12 industry&rsquo\;s first parent engagement solution. As a school leader with extensive first-hand experience managing incidents of student cyberbullying\, threats of violence\, and self-harm\, Mike brings the experience and passion necessary to guide school districts on their journey to enhanced student safety using the latest advanced technologies. Additionally\, Mike serves as General Manager of Securly&rsquo\;s rapidly expanding eastern headquarters in Charlotte\, NC.</p>\n\n<p><strong>Who Should Attend</strong></p>\n\n<p>K-12 IT and student services professionals.</p>\n\n<p><strong>Agenda</strong></p>\n\n<p><strong><em>45-minute&nbsp\;</em></strong></p>\n\n<ul>\n	<li>Learning in a modern world</li>\n	<li>Best practices for student safety and mental health</li>\n	<li>Best practices for engaging students wherever they&rsquo\;re learning</li>\n</ul>\n\n<p><strong><em>15-minute Q&amp\;A and interactive chat<br />\n<br />\n<a href="https://www.eventbrite.com/e/keeping-students-safe-and-engaged-in-a-modern-world-tickets-148917178289">Register Now</a></em></strong></p>\n
LOCATION:Virtual Register Now
UID:e.2843.18791
SEQUENCE:3
DTSTAMP:20260421T014626Z
URL:https://member.quadcitieschamber.com/events/details/keeping-students-safe-and-engaged-in-a-modern-world-18791
END:VEVENT

END:VCALENDAR
