BEGIN:VCALENDAR
VERSION:2.0
PRODID:-//ChamberMaster//Event Calendar 2.0//EN
METHOD:PUBLISH
X-PUBLISHED-TTL:P3D
REFRESH-INTERVAL:P3D
CALSCALE:GREGORIAN
BEGIN:VEVENT
DTSTART:20190321T153000Z
DTEND:20190321T180000Z
X-MICROSOFT-CDO-ALLDAYEVENT:FALSE
SUMMARY:Keller Williams Greater Quad Cities Blood Drive - Change The World One Pine At A Time
DESCRIPTION:Come in to donate at your blood drive this week and you will be automatically entered to win $500 VISA gift card.
X-ALT-DESC;FMTTYPE=text/html:Come in to donate at your blood drive this week and you will be automatically entered to win $500 VISA gift card.&nbsp\;
LOCATION:
UID:e.2843.14249
SEQUENCE:3
DTSTAMP:20260422T200320Z
URL:https://member.quadcitieschamber.com/events/details/keller-williams-greater-quad-cities-blood-drive-change-the-world-one-pine-at-a-time-14249
END:VEVENT

END:VCALENDAR
