BEGIN:VCALENDAR
VERSION:2.0
PRODID:-//ChamberMaster//Event Calendar 2.0//EN
METHOD:PUBLISH
X-PUBLISHED-TTL:P3D
REFRESH-INTERVAL:P3D
CALSCALE:GREGORIAN
BEGIN:VEVENT
DTSTART:20090721T050000Z
DTEND:20090721T050000Z
X-MICROSOFT-CDO-ALLDAYEVENT:FALSE
SUMMARY:Kick Start US Manufacturing with TAA Program
DESCRIPTION:Kick Start US Manufacturing with TAA Program
X-ALT-DESC;FMTTYPE=text/html:Kick Start US Manufacturing with TAA Program
LOCATION:
UID:e.2843.3723
SEQUENCE:3
DTSTAMP:20260424T060814Z
URL:https://member.quadcitieschamber.com/events/details/kick-start-us-manufacturing-with-taa-program-07-21-2009-3723
END:VEVENT

END:VCALENDAR
