BEGIN:VCALENDAR
VERSION:2.0
PRODID:-//ChamberMaster//Event Calendar 2.0//EN
METHOD:PUBLISH
X-PUBLISHED-TTL:P3D
REFRESH-INTERVAL:P3D
CALSCALE:GREGORIAN
BEGIN:VEVENT
DTSTART:20180609T000000Z
DTEND:20180609T020000Z
X-MICROSOFT-CDO-ALLDAYEVENT:FALSE
SUMMARY:Kickin' It Classic Rock w/ Say Days Ago
DESCRIPTION:Say Days Ago: We're a band from Davenport\, Iowa! We're so incredibly excited to partner with Bent River to bring you your favorite classic rock songs of the 60's\, 70's\, and 80's! Say Days Ago will be performing songs by: Journey\, The Beatles\, Tom Petty\, CCR\, The Police\, The Cure\, Heart\, and more! $5 cover - 21+ Bent River Rock Island\, 512 24th St\, Rock Island\, IL 61201
X-ALT-DESC;FMTTYPE=text/html:Say Days Ago: We&#39\;re a band from Davenport\, Iowa! We&#39\;re so incredibly excited to partner with Bent River to bring you your favorite classic rock songs of the 60&#39\;s\, 70&#39\;s\, and 80&#39\;s! Say Days Ago will be performing songs by: Journey\, The Beatles\, Tom Petty\, CCR\, The Police\, The Cure\, Heart\, and more! $5 cover - 21+ Bent River Rock Island\, 512 24th St\, Rock Island\, IL 61201
LOCATION:Bent River 512 24th St\, Rock Island\, IL 61201
UID:e.2843.13204
SEQUENCE:3
DTSTAMP:20260423T092121Z
URL:https://member.quadcitieschamber.com/events/details/kickin-it-classic-rock-w-say-days-ago-13204
END:VEVENT

END:VCALENDAR
