BEGIN:VCALENDAR
VERSION:2.0
PRODID:-//ChamberMaster//Event Calendar 2.0//EN
METHOD:PUBLISH
X-PUBLISHED-TTL:P3D
REFRESH-INTERVAL:P3D
CALSCALE:GREGORIAN
BEGIN:VEVENT
DTSTART:20180709T230000Z
DTEND:20180710T010000Z
X-MICROSOFT-CDO-ALLDAYEVENT:FALSE
SUMMARY:Knight Out Chess Club
DESCRIPTION:Chess\, drinks\, food   a perfect combination! Interested in some casual games of chess with new opponents in a fun atmosphere? Then please join us at Palmer Grill and join in some bullet\, blitz\, or even standard chess. Best suited for those 21 years of age and older. A program brought to you by the Bettendorf Public Library partnering with the Palmer Grill.
X-ALT-DESC;FMTTYPE=text/html:Chess\, drinks\, food &ndash\; a perfect combination! Interested in some casual games of chess with new opponents in a fun atmosphere? Then please join us at Palmer Grill and join in some bullet\, blitz\, or even standard chess. Best suited for those 21 years of age and older. A program brought to you by the Bettendorf Public Library partnering with the Palmer Grill.
LOCATION:Palmer Grill (Bettendorf) 2999 Middle Rd\, Bettendorf\, IA
UID:e.2843.13341
SEQUENCE:3
DTSTAMP:20260423T074609Z
URL:https://member.quadcitieschamber.com/events/details/knight-out-chess-club-13341
END:VEVENT

END:VCALENDAR
