BEGIN:VCALENDAR
VERSION:2.0
PRODID:-//ChamberMaster//Event Calendar 2.0//EN
METHOD:PUBLISH
X-PUBLISHED-TTL:P3D
REFRESH-INTERVAL:P3D
CALSCALE:GREGORIAN
BEGIN:VEVENT
DTSTART:20120809T200000Z
DTEND:20120809T203000Z
X-MICROSOFT-CDO-ALLDAYEVENT:FALSE
SUMMARY:KONE Centre Grand Opening and Ribbon Cutting
DESCRIPTION:Please help Renew Moline and the Ryan Companies celebrate the grand opening and ribbon cutting for KONE Centre on Thursday\, August 9th at 3:00pm.  The event will be held at Bass Street Landing\, 619 – 16th Street.
X-ALT-DESC;FMTTYPE=text/html:<DIV style="FONT-FAMILY: Arial"><P style="MARGIN: 0in 0in 0pt" class=MsoNormal><FONT face=Calibri>Please help Renew Moline and the Ryan Companies celebrate the grand opening and ribbon cutting for KONE Centre on Thursday\, August 9<SUP>th</SUP> at 3:00pm.<SPAN style="mso-spacerun: yes">&nbsp\; </SPAN>The event will be held at Bass Street Landing\, 619 – 16<SUP>th</SUP> Street.</FONT></P></DIV>
LOCATION:Bass Street Landing619 - 16th Street Moline\, IL 61265
UID:e.2843.410
SEQUENCE:3
DTSTAMP:20260421T202153Z
URL:https://member.quadcitieschamber.com/events/details/kone-centre-grand-opening-and-ribbon-cutting-08-09-2012-410
END:VEVENT

END:VCALENDAR
