BEGIN:VCALENDAR
VERSION:2.0
PRODID:-//ChamberMaster//Event Calendar 2.0//EN
METHOD:PUBLISH
X-PUBLISHED-TTL:P3D
REFRESH-INTERVAL:P3D
CALSCALE:GREGORIAN
BEGIN:VEVENT
DTSTART:20171020T230000Z
DTEND:20171021T010000Z
X-MICROSOFT-CDO-ALLDAYEVENT:FALSE
SUMMARY:Ladies' Night In: Let's Talk Sex!
DESCRIPTION:Sex. The taboo subject that rarely\, if ever\, gets talked about. So we decided\, we're talking. \n\n\n\nJoin us on Friday\, October 20th at 6pm for our Ladies' Night In. Dress for a comfortable and relaxed evening\, grab a friend\, and join us as we discuss the topic of healthy sex and relationships with a discussion panel\, open forum\, and information in a relaxed\, open atmosphere. Water\, wine\, and snacks will be provided. \n\n\n\n$12 Admission. RSVP Required. Limited Seating.
X-ALT-DESC;FMTTYPE=text/html:<span style="color:rgb(75\, 79\, 86)\; font-family:sf optimized\,system-ui\,-apple-system\,system-ui\,.sfnstext-regular\,sans-serif\; font-size:14px">Sex. The taboo subject that rarely\, if ever\, gets talked about. So we decided\, we&#39\;re talking.&nbsp\;</span><br />\n<br />\n<span style="color:rgb(75\, 79\, 86)\; font-family:sf optimized\,system-ui\,-apple-system\,system-ui\,.sfnstext-regular\,sans-serif\; font-size:14px">Join us on Friday\, October 20th at 6pm for our Ladies&#39\; Night In. Dress for a comfortable and relaxed evening\, grab a friend\, and join us as we discuss the topic of healthy sex and relationships with a discussion panel\, open forum\, and information in a relaxed\, open atmosphere. Water\, wine\, and snacks will be provided.&nbsp\;</span><br />\n<br />\n<span style="color:rgb(75\, 79\, 86)\; font-family:sf optimized\,system-ui\,-apple-system\,system-ui\,.sfnstext-regular\,sans-serif\; font-size:14px">$12 Admission. RSVP Required. Limited Seating.</span>
LOCATION:NutritionWorks Holisitic Health 2255 Kimberly Road Bettendorf\, IA 52722
UID:e.2843.6411
SEQUENCE:3
DTSTAMP:20260423T210550Z
URL:https://member.quadcitieschamber.com/events/details/ladies-night-in-let-s-talk-sex-6411
END:VEVENT

END:VCALENDAR
