BEGIN:VCALENDAR
VERSION:2.0
PRODID:-//ChamberMaster//Event Calendar 2.0//EN
METHOD:PUBLISH
X-PUBLISHED-TTL:P3D
REFRESH-INTERVAL:P3D
CALSCALE:GREGORIAN
BEGIN:VEVENT
DTSTART:20190401T163000Z
DTEND:20190401T190000Z
X-MICROSOFT-CDO-ALLDAYEVENT:FALSE
SUMMARY:Lane & Waterman's 4th Annual MVRBC Blood Drive
DESCRIPTION:Lane & Waterman invites all those in the downtown business community to roll up their sleeves and donate blood on Monday\, April 1\, 2019\, from 11:30 a.m. to 2:00 p.m.\, hosted by Mississippi Valley Regional Blood Center (MVRBC). The blood drive will take place on the MVRBC Donor Bus\, located outside of our office at 220 N. Main Street in Davenport\, IA. Anyone interested in donating may sign up to donate online at https://www.bloodcenterimpact.org/ /sc /drive_schedule/83708 or call/email Angie Tornquist at 563-324-3246 or ATornquist@l-wlaw.com with your preferred time. Presenting donors will be offered a cupcake from Oh So Sweet by Tiphanie. Donors must bring a photo ID and eat before donating. Those that have donated blood since February 14\, 2019\, are ineligible to donate on April 1\, 2019. For questions regarding donor eligibility\, please contact the blood center at 1-800-747-5401 or see the list online at http://www.bloodcenter.org/ /donatin /donor-eligibility.aspx
X-ALT-DESC;FMTTYPE=text/html:Lane &amp\; Waterman invites all those in the downtown business community to roll up their sleeves and donate blood on Monday\, April 1\, 2019\, from 11:30 a.m. to 2:00 p.m.\, hosted by Mississippi Valley Regional Blood Center (MVRBC). The blood drive will take place on the MVRBC Donor Bus\, located outside of our office at 220 N. Main Street in Davenport\, IA. Anyone interested in donating may sign up to donate online at https://www.bloodcenterimpact.org/&hellip\;/sc&hellip\;/drive_schedule/83708 or call/email Angie Tornquist at 563-324-3246 or ATornquist@l-wlaw.com with your preferred time. Presenting donors will be offered a cupcake from Oh So Sweet by Tiphanie. Donors must bring a photo ID and eat before donating. Those that have donated blood since February 14\, 2019\, are ineligible to donate on April 1\, 2019. For questions regarding donor eligibility\, please contact the blood center at 1-800-747-5401 or see the list online at http://www.bloodcenter.org/&hellip\;/donatin&hellip\;/donor-eligibility.aspx
LOCATION:MVRBC Donor Bus\, located outside of our office at 220 N. Main Street in Davenport\, IA.
UID:e.2843.14250
SEQUENCE:3
DTSTAMP:20260422T182016Z
URL:https://member.quadcitieschamber.com/events/details/lane-waterman-s-4th-annual-mvrbc-blood-drive-14250
END:VEVENT

END:VCALENDAR
