BEGIN:VCALENDAR
VERSION:2.0
PRODID:-//ChamberMaster//Event Calendar 2.0//EN
METHOD:PUBLISH
X-PUBLISHED-TTL:P3D
REFRESH-INTERVAL:P3D
CALSCALE:GREGORIAN
BEGIN:VEVENT
DTSTART:20130101T060000Z
DTEND:20131231T060000Z
X-MICROSOFT-CDO-ALLDAYEVENT:FALSE
SUMMARY:Lead Share 2013
DESCRIPTION:Lead Share 2013
X-ALT-DESC;FMTTYPE=text/html:Lead Share 2013
LOCATION:Quad Cities Chamber of Commerce
UID:e.2843.1741
SEQUENCE:3
DTSTAMP:20260421T090954Z
URL:https://member.quadcitieschamber.com/events/details/lead-share-2013-01-01-2013-1741
END:VEVENT

END:VCALENDAR
