BEGIN:VCALENDAR
VERSION:2.0
PRODID:-//ChamberMaster//Event Calendar 2.0//EN
METHOD:PUBLISH
X-PUBLISHED-TTL:P3D
REFRESH-INTERVAL:P3D
CALSCALE:GREGORIAN
BEGIN:VEVENT
DTSTART:20110512T123000Z
DTEND:20110512T133000Z
X-MICROSOFT-CDO-ALLDAYEVENT:FALSE
SUMMARY:Leader to Leader
DESCRIPTION:What's next for the Quad Cities? Get our mayors' perspectives at the Leader to Leader breakfast. Find out what our community leaders see on the horizon as we move past the economic downturn and work to grow our region's population\, increase wealth and add jobs. Be there for this discussion\, facilitated by Jim Russell\, Russell Construction Co. The mayors will also recognize the importance of our small businesses and sign the annual Small Business Week proclamation. Dave Green\, chair of the Quad Cities First board\, and President of Mississippi Valley Regional Blood Center\, will provide an economic development update.  Thursday\, May 127:30 a.m. - 8:30 a.m.Waterfront Convention Center\, 2021 State St.\, BettendorfCost: $10 for members\, $15 for non-members\; advance reservations requested
X-ALT-DESC;FMTTYPE=text/html:<DIV style="FONT-FAMILY: Arial"><FONT face=Calibri><P style="MARGIN: 0in 0in 0pt"><?xml:namespace prefix = v ns = "urn:schemas-microsoft-com:vml" /><v:shapetype id=_x0000_t75 stroked="f" filled="f" path="m@4@5l@4@11@9@11@9@5xe" o:preferrelative="t" o:spt="75" coordsize="21600\,21600"><v:stroke joinstyle="miter"></v:stroke><v:formulas><v:f eqn="if lineDrawn pixelLineWidth 0"></v:f><v:f eqn="sum @0 1 0"></v:f><v:f eqn="sum 0 0 @1"></v:f><v:f eqn="prod @2 1 2"></v:f><v:f eqn="prod @3 21600 pixelWidth"></v:f><v:f eqn="prod @3 21600 pixelHeight"></v:f><v:f eqn="sum @0 0 1"></v:f><v:f eqn="prod @6 1 2"></v:f><v:f eqn="prod @7 21600 pixelWidth"></v:f><v:f eqn="sum @8 21600 0"></v:f><v:f eqn="prod @7 21600 pixelHeight"></v:f><v:f eqn="sum @10 21600 0"></v:f></v:formulas><v:path o:connecttype="rect" gradientshapeok="t" o:extrusionok="f"></v:path><?xml:namespace prefix = o ns = "urn:schemas-microsoft-com:office:office" /><o:lock aspectratio="t" v:ext="edit"></o:lock></v:shapetype><v:shape style="Z-INDEX: 251657728\; POSITION: absolute\; MARGIN-TOP: 0px\; WIDTH: 153.75pt\; HEIGHT: 48.75pt\; MARGIN-LEFT: 0px\; mso-wrap-distance-left: 0\; mso-wrap-distance-right: 0\; mso-position-horizontal: left\; mso-position-vertical-relative: line" id=_x0000_s1026 stroked="t" strokeweight="56e-5mm" o:allowoverlap="f" alt="Image removed by sender. Leader to Leader logo" type="#_x0000_t75"><v:imagedata o:title="~WRD000" src="file:///C:\\DOCUME~1\\anagle\\LOCALS~1\\Temp\\msohtmlclip1\\01\\clip_image001.jpg"></v:imagedata><?xml:namespace prefix = w ns = "urn:schemas-microsoft-com:office:word" /><w:wrap type="square"></w:wrap></v:shape><SPAN style="FONT-FAMILY: 'Verdana'\,'sans-serif'\; COLOR: #333333\; FONT-SIZE: 11.5pt">What's next for the Quad Cities? Get our mayors' perspectives at the Leader to Leader breakfast. Find out what our community leaders see on the horizon as we move past the economic downturn and work to grow our region's population\, increase wealth and add jobs.</SPAN><SPAN style="COLOR: #333333"><o:p></o:p></SPAN></P><P style="MARGIN: 0in 0in 0pt"><SPAN style="FONT-FAMILY: 'Verdana'\,'sans-serif'\; COLOR: #333333\; FONT-SIZE: 11.5pt">&nbsp\;</SPAN><SPAN style="COLOR: #333333"><o:p></o:p></SPAN></P><P style="MARGIN: 0in 0in 0pt"><SPAN style="FONT-FAMILY: 'Verdana'\,'sans-serif'\; COLOR: #333333\; FONT-SIZE: 11.5pt">Be there for this discussion\, facilitated by Jim Russell\, Russell Construction Co. The mayors will also recognize the importance of our small businesses and sign the annual Small Business Week proclamation.</SPAN><SPAN style="COLOR: #333333"><o:p></o:p></SPAN></P><P style="MARGIN: 0in 0in 0pt"><SPAN style="FONT-FAMILY: 'Verdana'\,'sans-serif'\; COLOR: #333333\; FONT-SIZE: 11.5pt">&nbsp\;</SPAN><SPAN style="COLOR: #333333"><o:p></o:p></SPAN></P><P style="MARGIN: 0in 0in 0pt"><SPAN style="FONT-FAMILY: 'Verdana'\,'sans-serif'\; COLOR: #333333\; FONT-SIZE: 11pt">Dave Green\, chair of the Quad Cities First board\, and&nbsp\;President of Mississippi Valley Regional Blood Center\, will provide an economic development update.</SPAN><SPAN style="COLOR: #333333"><o:p></o:p></SPAN></P><P style="MARGIN: 0in 0in 0pt"><SPAN style="FONT-FAMILY: 'Verdana'\,'sans-serif'\; COLOR: #333333\; FONT-SIZE: 10pt">&nbsp\;</SPAN><SPAN style="COLOR: #333333\; FONT-SIZE: 14pt"><o:p></o:p></SPAN></P><P style="MARGIN: 0in 0in 0pt"><SPAN style="FONT-FAMILY: 'Verdana'\,'sans-serif'\; COLOR: #333333\; FONT-SIZE: 10pt">&nbsp\;</SPAN><SPAN style="COLOR: #333333\; FONT-SIZE: 14pt"><o:p></o:p></SPAN></P><P style="MARGIN: 0in 0in 0pt"><SPAN style="FONT-FAMILY: 'Verdana'\,'sans-serif'\; COLOR: #333333\; FONT-SIZE: 11pt">Thursday\, May 12<o:p></o:p></SPAN></P><P style="MARGIN: 0in 0in 0pt"><SPAN style="FONT-FAMILY: 'Verdana'\,'sans-serif'\; COLOR: #333333\; FONT-SIZE: 11pt">7:30 a.m. - 8:30 a.m.<o:p></o:p></SPAN></P><P style="MARGIN: 0in 0in 0pt"><SPAN style="FONT-FAMILY: 'Verdana'\,'sans-serif'\; COLOR: #333333\; FONT-SIZE: 11pt">Waterfront Convention Center\, 2021 State St.\, Bettendorf<o:p></o:p></SPAN></P><P style="MARGIN: 0in 0in 0pt"><SPAN style="FONT-FAMILY: 'Verdana'\,'sans-serif'\; COLOR: #333333\; FONT-SIZE: 11pt">Cost: $10 for members\, $15 for non-members\; advance reservations requested<o:p></o:p></SPAN></P><P style="MARGIN: 0in 0in 0pt" class=MsoNormal></FONT></P></DIV>
LOCATION:Quad-Cities Waterfront Convention Center2021 State Street Bettendorf\, IA 52722
UID:e.2843.165
SEQUENCE:3
DTSTAMP:20260423T005748Z
URL:https://member.quadcitieschamber.com/events/details/leader-to-leader-05-12-2011-165
END:VEVENT

END:VCALENDAR
