BEGIN:VCALENDAR
VERSION:2.0
PRODID:-//ChamberMaster//Event Calendar 2.0//EN
METHOD:PUBLISH
X-PUBLISHED-TTL:P3D
REFRESH-INTERVAL:P3D
CALSCALE:GREGORIAN
BEGIN:VEVENT
DTSTART:20090429T050000Z
DTEND:20090429T050000Z
X-MICROSOFT-CDO-ALLDAYEVENT:FALSE
SUMMARY:Leader to Leader Invoices (Walk-ins/No Shows)
DESCRIPTION:Leader to Leader Invoices (Walk-ins/No Shows)
X-ALT-DESC;FMTTYPE=text/html:Leader to Leader Invoices (Walk-ins/No Shows)
LOCATION:
UID:e.2843.3712
SEQUENCE:3
DTSTAMP:20260424T104753Z
URL:https://member.quadcitieschamber.com/events/details/leader-to-leader-invoices-walk-ins-no-shows-04-29-2009-3712
END:VEVENT

END:VCALENDAR
