BEGIN:VCALENDAR
VERSION:2.0
PRODID:-//ChamberMaster//Event Calendar 2.0//EN
METHOD:PUBLISH
X-PUBLISHED-TTL:P3D
REFRESH-INTERVAL:P3D
CALSCALE:GREGORIAN
BEGIN:VEVENT
DTSTART:20090429T050000Z
DTEND:20090429T050000Z
X-MICROSOFT-CDO-ALLDAYEVENT:FALSE
SUMMARY:Leader to Leader - PREPAID
DESCRIPTION:Leader to Leader - PREPAID
X-ALT-DESC;FMTTYPE=text/html:Leader to Leader - PREPAID
LOCATION:
UID:e.2843.3688
SEQUENCE:3
DTSTAMP:20260424T104259Z
URL:https://member.quadcitieschamber.com/events/details/leader-to-leader-prepaid-04-29-2009-3688
END:VEVENT

END:VCALENDAR
