BEGIN:VCALENDAR
VERSION:2.0
PRODID:-//ChamberMaster//Event Calendar 2.0//EN
METHOD:PUBLISH
X-PUBLISHED-TTL:P3D
REFRESH-INTERVAL:P3D
CALSCALE:GREGORIAN
BEGIN:VEVENT
DTSTART:20150508T123000Z
DTEND:20150508T210000Z
X-MICROSOFT-CDO-ALLDAYEVENT:FALSE
SUMMARY:Leadercast
DESCRIPTION:Join us on Friday May 8th for this incredible day-long leadership development event.\n\n The nine speakers who will be giving presentations via simulcast at this year's event will be:\n\n* Andy Stanley: Leadership Author and Communicator\n* Malala Yousafzai: "Bravest Girl in the World" - CNN Live via Simulcast\n* Ed Catmull: President of Pixar and Disney Animation Studios\n* Seth Godin: Bestselling Author and Leadership Expert\n* Rudy Giuliani: 107th Mayor of New York City from 1993 to 2001\n* Aja Brown: Mayor\, City of Compton\n* Bill McDermott: CEO of SAP AG\n* CMDR Rorke Denver: Navy SEAL Commander and Author* Plus Special Guest: Super Bowl-winning Quarterback and five-time MVP\n* Bill & Giuliana Rancic: Award-Winning Personalities and Co-Hosts of Leadercast 2015Register hereSponsored by: Results Marketing & The Quad Cities Chamber of Commerce
X-ALT-DESC;FMTTYPE=text/html:<P class=MsoNormal style="MARGIN: 0in 0in 0pt"><DIV class=e2ma-p-div style="MARGIN-BOTTOM: 10px\; WHITE-SPACE: normal\; TEXT-TRANSFORM: none\; WORD-SPACING: 0px\; COLOR: rgb(51\,51\,51)\; FONT: 13px/1.5 Arial\, Helvetica\, sans-serif\; WIDOWS: 1\; DISPLAY: block\; LETTER-SPACING: normal\; BACKGROUND-COLOR: rgb(255\,255\,255)\; TEXT-INDENT: 0px\; -webkit-text-stroke-width: 0px">Join us on Friday May 8th for this incredible day-long leadership development event.<BR></DIV><DIV class=e2ma-p-div style="MARGIN-BOTTOM: 10px\; WHITE-SPACE: normal\; TEXT-TRANSFORM: none\; WORD-SPACING: 0px\; COLOR: rgb(51\,51\,51)\; FONT: 13px/1.5 Arial\, Helvetica\, sans-serif\; WIDOWS: 1\; DISPLAY: block\; LETTER-SPACING: normal\; BACKGROUND-COLOR: rgb(255\,255\,255)\; TEXT-INDENT: 0px\; -webkit-text-stroke-width: 0px"><BR>&nbsp\;The nine speakers who will be giving presentations via simulcast at this year's event will be:<BR><BR>* Andy Stanley: Leadership Author and Communicator<BR>* Malala Yousafzai: "Bravest Girl in the World" -&nbsp\;CNN Live via Simulcast<BR>*&nbsp\;Ed Catmull: President of Pixar and Disney Animation Studios<BR>*&nbsp\;Seth Godin: Bestselling Author and Leadership Expert<BR>*&nbsp\;Rudy Giuliani: 107th Mayor of New York City from 1993 to 2001<BR>*&nbsp\;Aja Brown: Mayor\, City of Compton<BR>*&nbsp\;Bill McDermott: CEO of SAP AG<BR>*&nbsp\;CMDR Rorke Denver: Navy SEAL Commander and Author</DIV><DIV class=e2ma-p-div style="MARGIN-BOTTOM: 10px\; WHITE-SPACE: normal\; TEXT-TRANSFORM: none\; WORD-SPACING: 0px\; COLOR: rgb(51\,51\,51)\; FONT: 13px/1.5 Arial\, Helvetica\, sans-serif\; WIDOWS: 1\; DISPLAY: block\; LETTER-SPACING: normal\; BACKGROUND-COLOR: rgb(255\,255\,255)\; TEXT-INDENT: 0px\; -webkit-text-stroke-width: 0px">*&nbsp\;Plus Special Guest: Super Bowl-winning Quarterback and five-time MVP<BR>*&nbsp\;Bill&nbsp\;&amp\; Giuliana Rancic: Award-Winning Personalities and Co-Hosts of Leadercast 2015</DIV><DIV class=e2ma-p-div style="MARGIN-BOTTOM: 10px\; WHITE-SPACE: normal\; TEXT-TRANSFORM: none\; WORD-SPACING: 0px\; COLOR: rgb(51\,51\,51)\; FONT: 13px/19px Arial\, Helvetica\, sans-serif\; WIDOWS: 1\; DISPLAY: block\; LETTER-SPACING: normal\; BACKGROUND-COLOR: rgb(255\,255\,255)\; TEXT-INDENT: 0px\; -webkit-text-stroke-width: 0px">Register <A dataFld=0:0 href="https://t.e2ma.net/webview/rqv0g/3145268cec934047f4587cf58676671b">here</A></DIV><DIV class=e2ma-p-div style="MARGIN-BOTTOM: 10px\; WHITE-SPACE: normal\; TEXT-TRANSFORM: none\; WORD-SPACING: 0px\; COLOR: rgb(51\,51\,51)\; FONT: 13px/19px Arial\, Helvetica\, sans-serif\; WIDOWS: 1\; DISPLAY: block\; LETTER-SPACING: normal\; BACKGROUND-COLOR: rgb(255\,255\,255)\; TEXT-INDENT: 0px\; -webkit-text-stroke-width: 0px">Sponsored by: Results Marketing &amp\; The Quad Cities Chamber of Commerce</DIV>
LOCATION:iWireless Center1201 River Drive Moline\, IL 612651303
UID:e.2843.1014
SEQUENCE:3
DTSTAMP:20260421T054232Z
URL:https://member.quadcitieschamber.com/events/details/leadercast-05-08-2015-1014
END:VEVENT

END:VCALENDAR
