BEGIN:VCALENDAR
VERSION:2.0
PRODID:-//ChamberMaster//Event Calendar 2.0//EN
METHOD:PUBLISH
X-PUBLISHED-TTL:P3D
REFRESH-INTERVAL:P3D
CALSCALE:GREGORIAN
BEGIN:VEVENT
DTSTART;VALUE=DATE:20210414
DTEND;VALUE=DATE:20210415
TRANSP:TRANSPARENT
X-MICROSOFT-CDO-ALLDAYEVENT:TRUE
SUMMARY:Leadership for the Quad Cities - SAU Certificate Program
DESCRIPTION:Leadership for the Quad Cities (LFQC) is designed for people who are ready to take the next step in their career and engage with their community. Participants will engage in experiential learning techniques which are designed to challenge them to leave their comfort zone in order to become more strategic and dynamic leaders. \n\n \n\nOur LFQC participants can expect to interact with a diverse network of leaders across various industries in the Quad Cities community. The group is led by highly qualified St. Ambrose faculty and industry professionals. Each session within the curriculum references the Five Practices of Exemplary Leadership \, researched and developed by the Leadership Practices Institute. Upon completion\, participants will earn a Certificate in Leadership from St. Ambrose University.
X-ALT-DESC;FMTTYPE=text/html:<span style="color:#222222"><span style="font-size:12.0pt">Leadership for the Quad Cities (LFQC) is designed for people who are ready to take the next step in their career and engage with their community. Participants will engage in experiential learning techniques which are designed to challenge them to leave their comfort zone in order to become more strategic and dynamic leaders. </span></span><br />\n&nbsp\;<br />\n<span style="color:#222222"><span style="font-size:12.0pt">Our LFQC participants can expect to interact with a diverse network of leaders across various industries in the Quad Cities community. The group is led by highly qualified St. Ambrose faculty and industry professionals. Each session within the curriculum references the Five Practices of Exemplary Leadership&reg\;\, researched and developed by the Leadership Practices Institute. Upon completion\, participants will earn a Certificate in Leadership from St. Ambrose University.&nbsp\;</span></span>
LOCATION:SAU Professional Development Center 1950 E. 54th St. Davenport\, IA 52807
UID:e.2843.18604
SEQUENCE:3
DTSTAMP:20260421T015245Z
URL:https://member.quadcitieschamber.com/events/details/leadership-for-the-quad-cities-04-14-2021-18604
END:VEVENT

END:VCALENDAR
