BEGIN:VCALENDAR
VERSION:2.0
PRODID:-//ChamberMaster//Event Calendar 2.0//EN
METHOD:PUBLISH
X-PUBLISHED-TTL:P3D
REFRESH-INTERVAL:P3D
CALSCALE:GREGORIAN
BEGIN:VEVENT
DTSTART:20200826T140000Z
DTEND:20200826T210000Z
X-MICROSOFT-CDO-ALLDAYEVENT:FALSE
SUMMARY:Leadership for the Quad Cities
DESCRIPTION:Our LFQC certificate program is designed for people who are ready to take the next step in their career and engage in their community. LFQC utilizes a combination of academic study and real world application to develop your individual leadership potential. Course includes a 360 degree evaluation module. Cost includes course materials\, lunch and light snacks.
X-ALT-DESC;FMTTYPE=text/html:<span style="color:rgb(0\, 0\, 0)\; font-family:-apple-system\,blinkmacsystemfont\,segoe ui\,roboto\,helvetica neue\,arial\,sans-serif\; font-size:16px">Our LFQC certificate program is designed for people who are ready to take the next step in their career and engage in their community. LFQC utilizes a combination of academic study and real world application to develop your individual leadership potential. Course includes a 360 degree evaluation module. Cost includes course materials\, lunch and light snacks.&nbsp\;</span>
LOCATION:St. Ambrose University Professional Development Center 1950 E. 54th St. Davenport\, IA 52807
UID:e.2843.17806
SEQUENCE:3
DTSTAMP:20260421T141559Z
URL:https://member.quadcitieschamber.com/events/details/leadership-for-the-quad-cities-17806
END:VEVENT

END:VCALENDAR
