BEGIN:VCALENDAR
VERSION:2.0
PRODID:-//ChamberMaster//Event Calendar 2.0//EN
METHOD:PUBLISH
X-PUBLISHED-TTL:P3D
REFRESH-INTERVAL:P3D
CALSCALE:GREGORIAN
BEGIN:VEVENT
DTSTART:20190428T233000Z
DTEND:20190429T010000Z
X-MICROSOFT-CDO-ALLDAYEVENT:FALSE
SUMMARY:Leading the Nation 2020: Forum with Eric Swalwell
DESCRIPTION:Presidential candidate U.S. Rep. Eric Swalwell is participating in an upcoming candidate forum sponsored by the Quad-City Times\, Quad-Cities Chamber of Commerce\, and St. Ambrose University.\n\n\n\n"Leading the Nation - Iowa 2020" is a series of forums aimed at informing Iowans ahead of the first-in-the-nation caucuses Feb. 3\, 2020.\n\n\n\nThe 90-minute forum will begin with introductions\, followed by remarks from Swalwell and a 25-minute panel discussion led by two journalists and Ed Tibbetts\, Quad-City Times Editorial Page Editor. The forum concludes with a question-and-answer period with the audience. Cost: Free to attend
X-ALT-DESC;FMTTYPE=text/html:Presidential candidate U.S. Rep. Eric Swalwell is participating in an upcoming candidate forum sponsored by the Quad-City Times\, Quad-Cities Chamber of Commerce\, and St. Ambrose University.<br />\n<br />\n&quot\;Leading the Nation - Iowa 2020&quot\; is a series of forums aimed at informing Iowans ahead of the first-in-the-nation caucuses Feb. 3\, 2020.<br />\n<br />\nThe 90-minute forum will begin with introductions\, followed by remarks from Swalwell and a 25-minute panel discussion led by two journalists and Ed Tibbetts\, Quad-City Times Editorial Page Editor. The forum concludes with a question-and-answer period with the audience. Cost: Free to attend
LOCATION:Rogalski Center Ballroom W High St Davenport\, IA 52803
UID:e.2843.14331
SEQUENCE:3
DTSTAMP:20260422T182105Z
URL:https://member.quadcitieschamber.com/events/details/leading-the-nation-2020-forum-with-eric-swalwell-04-28-2019-14331
END:VEVENT

END:VCALENDAR
