BEGIN:VCALENDAR
VERSION:2.0
PRODID:-//ChamberMaster//Event Calendar 2.0//EN
METHOD:PUBLISH
X-PUBLISHED-TTL:P3D
REFRESH-INTERVAL:P3D
CALSCALE:GREGORIAN
BEGIN:VEVENT
DTSTART:20190502T000000Z
DTEND:20190502T010000Z
X-MICROSOFT-CDO-ALLDAYEVENT:FALSE
SUMMARY:Leading the Nation 2020: Forum with John Delaney
DESCRIPTION:Democratic presidential candidate John Delaney will attend a May forum sponsored by St. Ambrose University\, the Quad-City Times and the Quad-Cities Chamber of Commerce. Delaney\, a former congressman from Maryland\, will be the featured speaker at "Leading the Nation   Iowa 2020\," a joint effort by the Times\, St. Ambrose and the chamber. The forum will be 7 p.m. Wednesday\, May 1\, at the Rogalski Center on the campus of St. Ambrose University\, Davenport. It will include introductions from a St. Ambrose official and a 25-minute panel discussion with Delaney and Quad-City journalists that will be moderated by Ed Tibbetts\, editorial page editor for the Times. Delaney also will speak and answer questions from the audience. The Times\, St. Ambrose and the chamber announced the forum series in February with the intent of informing Iowans ahead of the presidential caucuses Feb. 3\, 2020.
X-ALT-DESC;FMTTYPE=text/html:Democratic presidential candidate John Delaney will attend a May forum sponsored by St. Ambrose University\, the Quad-City Times and the Quad-Cities Chamber of Commerce. Delaney\, a former congressman from Maryland\, will be the featured speaker at &ldquo\;Leading the Nation &mdash\; Iowa 2020\,&rdquo\; a joint effort by the Times\, St. Ambrose and the chamber. The forum will be 7 p.m. Wednesday\, May 1\, at the Rogalski Center on the campus of St. Ambrose University\, Davenport. It will include introductions from a St. Ambrose official and a 25-minute panel discussion with Delaney and Quad-City journalists that will be moderated by Ed Tibbetts\, editorial page editor for the Times. Delaney also will speak and answer questions from the audience. The Times\, St. Ambrose and the chamber announced the forum series in February with the intent of informing Iowans ahead of the presidential caucuses Feb. 3\, 2020.
LOCATION:Rogalski Center Ballroom W High St Davenport\, IA 52803
UID:e.2843.14332
SEQUENCE:3
DTSTAMP:20260422T163908Z
URL:https://member.quadcitieschamber.com/events/details/leading-the-nation-2020-forum-with-john-delaney-14332
END:VEVENT

END:VCALENDAR
