BEGIN:VCALENDAR
VERSION:2.0
PRODID:-//ChamberMaster//Event Calendar 2.0//EN
METHOD:PUBLISH
X-PUBLISHED-TTL:P3D
REFRESH-INTERVAL:P3D
CALSCALE:GREGORIAN
BEGIN:VEVENT
DTSTART:20120606T150000Z
DTEND:20120606T153000Z
X-MICROSOFT-CDO-ALLDAYEVENT:FALSE
SUMMARY:LeClaire Park Bandshell Addition and Park Improvements Ribbon Cutting
DESCRIPTION:Please help the City of Davenport re-dedicate the LeClaire Park bandshell addition and park improvements with a ribbon cutting on Wednesday\, June 6th at 10:00am.\nNote:  This is an additional event/ribbon cutting for the media and does NOT replace the ribbon cutting taking place on Sunday\, June 10th at 7:00pm.
X-ALT-DESC;FMTTYPE=text/html:<DIV style="FONT-FAMILY: Arial"><P style="MARGIN: 0in 0in 0pt" class=MsoNormal><FONT face=Calibri>Please help the City of Davenport re-dedicate the LeClaire Park bandshell addition and park improvements with a ribbon cutting on Wednesday\, June 6<SUP>th</SUP> at 10:00am.</FONT></P><P style="MARGIN: 0in 0in 0pt" class=MsoNormal><FONT face=Calibri><BR></FONT><FONT face=Calibri>Note:<SPAN style="mso-spacerun: yes">&nbsp\; </SPAN>This is an additional event/ribbon cutting for the media and does NOT replace the ribbon cutting taking place on Sunday\, June 10<SUP>th</SUP> at 7:00pm.<?xml:namespace prefix = o ns = "urn:schemas-microsoft-com:office:office" /><o:p></o:p></FONT></P></DIV>
LOCATION:LeClaire Park Bandshell - Davenport
UID:e.2843.386
SEQUENCE:3
DTSTAMP:20260421T235358Z
URL:https://member.quadcitieschamber.com/events/details/leclaire-park-bandshell-addition-and-park-improvements-ribbon-cutting-06-06-2012-386
END:VEVENT

END:VCALENDAR
