BEGIN:VCALENDAR
VERSION:2.0
PRODID:-//ChamberMaster//Event Calendar 2.0//EN
METHOD:PUBLISH
X-PUBLISHED-TTL:P3D
REFRESH-INTERVAL:P3D
CALSCALE:GREGORIAN
BEGIN:VEVENT
DTSTART:20120711T000000Z
DTEND:20120711T003000Z
X-MICROSOFT-CDO-ALLDAYEVENT:FALSE
SUMMARY:LeClaire Park Bandshell Addition and Park Improvements Ribbon Cutting
DESCRIPTION:Please help the City of Davenport re-dedicate the LeClaire Park bandshell addition and park improvements with a ribbon cutting on Sunday\, June 10th at 7:00pm.  The ribbon cutting will take place just prior to the initial summer concert with the Josh Duffee Orchestra.
X-ALT-DESC;FMTTYPE=text/html:<DIV style="FONT-FAMILY: Arial"><P style="MARGIN: 0in 0in 0pt" class=MsoNormal><FONT face=Calibri>Please help the City of Davenport re-dedicate the LeClaire Park bandshell addition and park improvements with a ribbon cutting on Sunday\, June 10<SUP>th</SUP> at 7:00pm.<SPAN style="mso-spacerun: yes">&nbsp\; </SPAN>The ribbon cutting will take place just prior to the initial summer concert with the Josh Duffee Orchestra.</FONT></P></DIV>
LOCATION:LeClaire Park Bandshell
UID:e.2843.380
SEQUENCE:3
DTSTAMP:20260421T220927Z
URL:https://member.quadcitieschamber.com/events/details/leclaire-park-bandshell-addition-and-park-improvements-ribbon-cutting-07-10-2012-380
END:VEVENT

END:VCALENDAR
