BEGIN:VCALENDAR
VERSION:2.0
PRODID:-//ChamberMaster//Event Calendar 2.0//EN
METHOD:PUBLISH
X-PUBLISHED-TTL:P3D
REFRESH-INTERVAL:P3D
CALSCALE:GREGORIAN
BEGIN:VEVENT
DTSTART:20120425T160000Z
DTEND:20120425T163000Z
X-MICROSOFT-CDO-ALLDAYEVENT:FALSE
SUMMARY:Legal Shield Ribbon Cutting
DESCRIPTION:Please help celebrate new member\, Brad Martin and Legal Shield\, with a ribbon cutting on Wednesday\, April 25th at 11am at the Chamber office in Moline. Everyone deserves legal protection.  And now\, with Legal Shield\, everyone can access it.  No matter how traumatic.  No matter how trivial.  Whatever your situation is\, we are here to help.  From real estate to divorce advice\, identity theft and beyond\, we have your rights covered.  Welcome to total peace of mind.  Welcome to Legal Shield. Total Access. Total Freedom.
X-ALT-DESC;FMTTYPE=text/html:<DIV style="FONT-FAMILY: Arial"><P style="MARGIN: 0in 0in 0pt" class=MsoNormal><SPAN style="FONT-FAMILY: 'Trebuchet MS'\,'sans-serif'\; FONT-SIZE: 9pt">Please help celebrate new member\, Brad Martin and Legal Shield\, with a ribbon cutting on Wednesday\, April 25<SUP>th</SUP> at 11am at the Chamber office in Moline.<?xml:namespace prefix = o ns = "urn:schemas-microsoft-com:office:office" /><o:p></o:p></SPAN></P><P style="MARGIN: 0in 0in 0pt" class=MsoNormal><SPAN style="FONT-FAMILY: 'Trebuchet MS'\,'sans-serif'\; FONT-SIZE: 9pt"><o:p>&nbsp\;</o:p></SPAN></P><P style="MARGIN: 0in 0in 0pt" class=MsoNormal><SPAN style="FONT-FAMILY: 'Trebuchet MS'\,'sans-serif'\; FONT-SIZE: 9pt">Everyone deserves legal protection.<SPAN style="mso-spacerun: yes">&nbsp\; </SPAN>And now\, with Legal Shield\, everyone can access it.<SPAN style="mso-spacerun: yes">&nbsp\; </SPAN>No matter how traumatic.<SPAN style="mso-spacerun: yes">&nbsp\; </SPAN>No matter how trivial.<SPAN style="mso-spacerun: yes">&nbsp\; </SPAN>Whatever your situation is\, we are here to help.<SPAN style="mso-spacerun: yes">&nbsp\; </SPAN>From real estate to divorce advice\, identity theft and beyond\, we have your rights covered.<SPAN style="mso-spacerun: yes">&nbsp\; </SPAN>Welcome to total peace of mind.<SPAN style="mso-spacerun: yes">&nbsp\; </SPAN>Welcome to Legal Shield. Total Access. Total Freedom.<o:p></o:p></SPAN></P></DIV>
LOCATION:Quad Cities Chamber of Commerce622 19th Street Moline\, IL 61265
UID:e.2843.368
SEQUENCE:3
DTSTAMP:20260422T044505Z
URL:https://member.quadcitieschamber.com/events/details/legal-shield-ribbon-cutting-04-25-2012-368
END:VEVENT

END:VCALENDAR
