BEGIN:VCALENDAR
VERSION:2.0
PRODID:-//ChamberMaster//Event Calendar 2.0//EN
METHOD:PUBLISH
X-PUBLISHED-TTL:P3D
REFRESH-INTERVAL:P3D
CALSCALE:GREGORIAN
BEGIN:VEVENT
DTSTART:20131030T213000Z
DTEND:20131030T220000Z
X-MICROSOFT-CDO-ALLDAYEVENT:FALSE
SUMMARY:LegalShield\, GoSmallBiz\, Kroll Fraud Solutions Ribbon Cutting
DESCRIPTION:LegalShield\, GoSmallBiz\, and Kroll Fraud Solutions will celebrate their expansion into the Quad Cities with a ribbon cutting on Wednesday\, October 30th  at 4:30 p.m.  The event will take place at Bass Street Chop House at 1601 River Dr. Moline\, IL 61201.   Membership Manager Mike Coughlin will be speaking on behalf of the Quad Cities Chamber of Commerce.   LegalShield LegalShield is a 42 year old company which offers nationwide legal services to individuals\, families and small businesses.  The services provided include unlimited advice\, phone calls\, letters\, document review\, will preparation\, attorney representation\, IRS assistance and more.  For more information visit www.kathleenramsey.legalshieldassociate.com.   GoSmallBiz This 14 year old company was founded by small business advocate and entrepreneur Fran Tarkenton.  GoSmallBiz provides small businesses with legal advice (including ACA) and consultations\, website\, marketing\, HR\, collection letters and much more.  These services are available to small businesses with 100 employees or less for a small monthly fee. For more information\, please visit www.GoSmallBiz.com.   Kroll Fraud Solutions Kroll Fraud Solutions is the most comprehensive identity theft product available on the market today.  Services include credit reports\, monitoring\, and complete restoration for a small monthly fee.    Thank you\,
X-ALT-DESC;FMTTYPE=text/html:<FONT face=Calibri><P style="MARGIN: 0in 0in 0pt" class=MsoNormal>LegalShield\, GoSmallBiz\, and Kroll Fraud Solutions will celebrate their expansion into the Quad Cities with a ribbon cutting on <B style="mso-bidi-font-weight: normal">Wednesday\, October 30<SUP>th</SUP> <SPAN style="mso-spacerun: yes">&nbsp\;</SPAN>at 4:30 p.m</B>.<SPAN style="mso-spacerun: yes">&nbsp\; </SPAN>The event will take place at Bass Street Chop House&nbsp\;at 1601 River Dr. Moline\, IL 61201.&nbsp\; </P><P style="MARGIN: 0in 0in 0pt" class=MsoNormal><?xml:namespace prefix = o ns = "urn:schemas-microsoft-com:office:office" /><o:p>&nbsp\;</o:p></P><P style="MARGIN: 0in 0in 0pt" class=MsoNormal>Membership Manager Mike Coughlin will be speaking on behalf of the Quad Cities Chamber of Commerce.<SPAN style="mso-spacerun: yes">&nbsp\; </SPAN><o:p></o:p></P><P style="MARGIN: 0in 0in 0pt" class=MsoNormal><o:p>&nbsp\;</o:p></P><P style="MARGIN: 0in 0in 0pt" class=MsoNormal><B style="mso-bidi-font-weight: normal">LegalShield<o:p></o:p></B></P><P style="MARGIN: 0in 0in 0pt" class=MsoNormal><B style="mso-bidi-font-weight: normal"><o:p>&nbsp\;</o:p></B></P><P style="MARGIN: 0in 0in 0pt" class=MsoNormal>LegalShield is a 42 year old company which offers nationwide legal services to individuals\, families and small businesses.<SPAN style="mso-spacerun: yes">&nbsp\; </SPAN>The services provided include unlimited advice\, phone calls\, letters\, document review\, will preparation\, attorney representation\, IRS assistance and more.<SPAN style="mso-spacerun: yes">&nbsp\; </SPAN>For more information visit <A href="http://www.kathleenramsey.legalshieldassociate.com"><FONT face="Times New Roman">www.kathleenramsey.legalshieldassociate.com</FONT></A>.<SPAN style="mso-spacerun: yes">&nbsp\; </SPAN><o:p></o:p></P><P style="MARGIN: 0in 0in 0pt" class=MsoNormal><o:p>&nbsp\;</o:p></P><P style="MARGIN: 0in 0in 0pt" class=MsoNormal><B style="mso-bidi-font-weight: normal">GoSmallBiz<o:p></o:p></B></P><P style="MARGIN: 0in 0in 0pt" class=MsoNormal><B style="mso-bidi-font-weight: normal"><o:p>&nbsp\;</o:p></B></P><P style="MARGIN: 0in 0in 0pt" class=MsoNormal>This 14 year old company was founded by small business advocate and entrepreneur Fran Tarkenton.<SPAN style="mso-spacerun: yes">&nbsp\; </SPAN>GoSmallBiz provides small businesses with legal advice (including ACA) and consultations\, website\, marketing\, HR\, collection letters and much more.<SPAN style="mso-spacerun: yes">&nbsp\; </SPAN>These services are available to small businesses with 100 employees or less for a small monthly fee. For more information\, please visit <A href="http://www.GoSmallBiz.com"><FONT face="Times New Roman">www.GoSmallBiz.com</FONT></A>.<SPAN style="mso-spacerun: yes">&nbsp\; </SPAN><o:p></o:p></P><P style="MARGIN: 0in 0in 0pt" class=MsoNormal><B style="mso-bidi-font-weight: normal"><o:p>&nbsp\;</o:p></B></P><P style="MARGIN: 0in 0in 0pt" class=MsoNormal><B style="mso-bidi-font-weight: normal">Kroll Fraud Solutions<o:p></o:p></B></P><P style="MARGIN: 0in 0in 0pt" class=MsoNormal><B style="mso-bidi-font-weight: normal"><o:p>&nbsp\;</o:p></B></P><P style="MARGIN: 0in 0in 0pt" class=MsoNormal>Kroll Fraud Solutions is the most comprehensive identity theft product available on the market today.<SPAN style="mso-spacerun: yes">&nbsp\; </SPAN>Services include credit reports\, monitoring\, and complete restoration for a small monthly fee.<SPAN style="mso-spacerun: yes">&nbsp\; </SPAN><B style="mso-bidi-font-weight: normal"><SPAN style="mso-spacerun: yes">&nbsp\;</SPAN><o:p></o:p></B></P><P style="MARGIN: 0in 0in 0pt" class=MsoNormal><B style="mso-bidi-font-weight: normal"><o:p>&nbsp\;</o:p></B></P><P style="MARGIN: 0in 0in 0pt" class=MsoNormal>Thank you\,<o:p></o:p></P><P></FONT>&nbsp\;</P>
LOCATION:Legal Shield
UID:e.2843.733
SEQUENCE:3
DTSTAMP:20260421T220402Z
URL:https://member.quadcitieschamber.com/events/details/legalshield-gosmallbiz-kroll-fraud-solutions-ribbon-cutting-10-30-2013-733
END:VEVENT

END:VCALENDAR
