BEGIN:VCALENDAR
VERSION:2.0
PRODID:-//ChamberMaster//Event Calendar 2.0//EN
METHOD:PUBLISH
X-PUBLISHED-TTL:P3D
REFRESH-INTERVAL:P3D
CALSCALE:GREGORIAN
BEGIN:VEVENT
DTSTART:20140625T163000Z
DTEND:20140626T000000Z
X-MICROSOFT-CDO-ALLDAYEVENT:FALSE
SUMMARY:LegalShield Showcase
DESCRIPTION:
X-ALT-DESC;FMTTYPE=text/html:
LOCATION:
UID:e.2843.26
SEQUENCE:3
DTSTAMP:20260422T110144Z
URL:https://member.quadcitieschamber.com/events/details/legalshield-showcase-06-25-2014-26
END:VEVENT

END:VCALENDAR
