BEGIN:VCALENDAR
VERSION:2.0
PRODID:-//ChamberMaster//Event Calendar 2.0//EN
METHOD:PUBLISH
X-PUBLISHED-TTL:P3D
REFRESH-INTERVAL:P3D
CALSCALE:GREGORIAN
BEGIN:VEVENT
DTSTART:20120412T213000Z
DTEND:20120412T220000Z
X-MICROSOFT-CDO-ALLDAYEVENT:FALSE
SUMMARY:Legat Architects\, Inc.
DESCRIPTION:Please celebrate the Grand Opening and Ribbon Cutting for Legat Architects\, Inc. on Thursday\, April 12th at 4:30pm.  The address is 1515 5th Avenue\, downtown Moline in the Heritage Place building. The ribbon cutting takes place before the 5pm kick-off of the April Business After Hours\, which Legat Architects is hosting. Please visit www.legat.com for more information.
X-ALT-DESC;FMTTYPE=text/html:<DIV><FONT face=Calibri><P style="MARGIN: 0in 0in 0pt" class=MsoNormal>Please celebrate the Grand Opening and Ribbon Cutting for Legat Architects\, Inc. on Thursday\, April 12<SUP>th</SUP> at 4:30pm.<SPAN style="mso-spacerun: yes">&nbsp\; </SPAN>The address is 1515 5<SUP>th</SUP> Avenue\, downtown Moline in the Heritage Place building.</P><P style="MARGIN: 0in 0in 0pt" class=MsoNormal><?xml:namespace prefix = o ns = "urn:schemas-microsoft-com:office:office" /><o:p>&nbsp\;</o:p></P><P style="MARGIN: 0in 0in 0pt" class=MsoNormal>The ribbon cutting takes place before the 5pm kick-off of the April Business After Hours\, which Legat Architects is hosting.</P><P style="MARGIN: 0in 0in 0pt" class=MsoNormal><o:p>&nbsp\;</o:p></P><P style="MARGIN: 0in 0in 0pt" class=MsoNormal>Please&nbsp\;visit <A href="http://www.legat.com"><FONT face="Times New Roman">www.legat.com</FONT></A> for more information.</P><P style="MARGIN: 0in 0in 0pt" class=MsoNormal><o:p>&nbsp\;</o:p></P><P style="MARGIN: 0in 0in 0pt" class=MsoNormal><SPAN style="FONT-FAMILY: 'Calibri'\,'sans-serif'\; FONT-SIZE: 11pt\; mso-fareast-font-family: 'Times New Roman'\; mso-bidi-font-family: 'Times New Roman'\; mso-ansi-language: EN-US\; mso-fareast-language: EN-US\; mso-bidi-language: AR-SA"><?xml:namespace prefix = v ns = "urn:schemas-microsoft-com:vml" /><v:shapetype id=_x0000_t75 coordsize="21600\,21600" o:spt="75" o:preferrelative="t" path="m@4@5l@4@11@9@11@9@5xe" filled="f" stroked="f"><v:stroke joinstyle="miter"></v:stroke><v:formulas><v:f eqn="if lineDrawn pixelLineWidth 0"></v:f><v:f eqn="sum @0 1 0"></v:f><v:f eqn="sum 0 0 @1"></v:f><v:f eqn="prod @2 1 2"></v:f><v:f eqn="prod @3 21600 pixelWidth"></v:f><v:f eqn="prod @3 21600 pixelHeight"></v:f><v:f eqn="sum @0 0 1"></v:f><v:f eqn="prod @6 1 2"></v:f><v:f eqn="prod @7 21600 pixelWidth"></v:f><v:f eqn="sum @8 21600 0"></v:f><v:f eqn="prod @7 21600 pixelHeight"></v:f><v:f eqn="sum @10 21600 0"></v:f></v:formulas><v:path o:extrusionok="f" gradientshapeok="t" o:connecttype="rect"></v:path><o:lock v:ext="edit" aspectratio="t"></o:lock></v:shapetype><v:shape style="WIDTH: 1in\; HEIGHT: 56.25pt" id=_x0000_i1025 type="#_x0000_t75" o:ole=""><v:imagedata src="file:///C:\\DOCUME~1\\anagle\\LOCALS~1\\Temp\\msohtmlclip1\\01\\clip_image001.wmz" o:title=""></v:imagedata></v:shape></SPAN></P></FONT></DIV>
LOCATION:Legat Architects1515 5th Ave. Moline\, IL 61265
UID:e.2843.357
SEQUENCE:3
DTSTAMP:20260420T102209Z
URL:https://member.quadcitieschamber.com/events/details/legat-architects-inc-04-12-2012-357
END:VEVENT

END:VCALENDAR
