BEGIN:VCALENDAR
VERSION:2.0
PRODID:-//ChamberMaster//Event Calendar 2.0//EN
METHOD:PUBLISH
X-PUBLISHED-TTL:P3D
REFRESH-INTERVAL:P3D
CALSCALE:GREGORIAN
BEGIN:VEVENT
DTSTART:20090515T050000Z
DTEND:20090515T050000Z
X-MICROSOFT-CDO-ALLDAYEVENT:FALSE
SUMMARY:Legislative Luncheon 5.15.09
DESCRIPTION:Legislative Luncheon 5.15.09
X-ALT-DESC;FMTTYPE=text/html:Legislative Luncheon 5.15.09
LOCATION:
UID:e.2843.4170
SEQUENCE:3
DTSTAMP:20260424T104257Z
URL:https://member.quadcitieschamber.com/events/details/legislative-luncheon-5-15-09-05-15-2009-4170
END:VEVENT

END:VCALENDAR
