BEGIN:VCALENDAR
VERSION:2.0
PRODID:-//ChamberMaster//Event Calendar 2.0//EN
METHOD:PUBLISH
X-PUBLISHED-TTL:P3D
REFRESH-INTERVAL:P3D
CALSCALE:GREGORIAN
BEGIN:VEVENT
DTSTART:20111001T050000Z
DTEND:20121201T060000Z
X-MICROSOFT-CDO-ALLDAYEVENT:FALSE
SUMMARY:Legislative Priorities Booklet
DESCRIPTION:Legislative Priorities Booklet
X-ALT-DESC;FMTTYPE=text/html:Legislative Priorities Booklet
LOCATION:
UID:e.2843.4413
SEQUENCE:3
DTSTAMP:20260421T134340Z
URL:https://member.quadcitieschamber.com/events/details/legislative-priorities-booklet-10-01-2011-4413
END:VEVENT

END:VCALENDAR
