BEGIN:VCALENDAR
VERSION:2.0
PRODID:-//ChamberMaster//Event Calendar 2.0//EN
METHOD:PUBLISH
X-PUBLISHED-TTL:P3D
REFRESH-INTERVAL:P3D
CALSCALE:GREGORIAN
BEGIN:VEVENT
DTSTART:20180418T233000Z
DTEND:20180419T003000Z
X-MICROSOFT-CDO-ALLDAYEVENT:FALSE
SUMMARY:Let's talk about the THYROID!
DESCRIPTION:Tired? Trouble sleeping? Moody? Have you ever wondered if you have thyroid issues\, even if you've been told you haven't? Join us at this month's health talk as we talk about the functions of the thyroid\, why so many women have symptoms of thyroid issues\, and how a holistic approach can help restore thyroid health and bring your body back into balance.
X-ALT-DESC;FMTTYPE=text/html:Tired? Trouble sleeping? Moody? Have you ever wondered if you have thyroid issues\, even if you&#39\;ve been told you haven&#39\;t? Join us at this month&#39\;s health talk as we talk about the functions of the thyroid\, why so many women have symptoms of thyroid issues\, and how a holistic approach can help restore thyroid health and bring your body back into balance.
LOCATION:NutritionWorks Holistic Health 2255 Kimberly Road Bettendorf\, Iowa 52722
UID:e.2843.12125
SEQUENCE:3
DTSTAMP:20260423T122727Z
URL:https://member.quadcitieschamber.com/events/details/let-s-talk-about-the-thyroid-12125
END:VEVENT

END:VCALENDAR
