BEGIN:VCALENDAR
VERSION:2.0
PRODID:-//ChamberMaster//Event Calendar 2.0//EN
METHOD:PUBLISH
X-PUBLISHED-TTL:P3D
REFRESH-INTERVAL:P3D
CALSCALE:GREGORIAN
BEGIN:VEVENT
DTSTART:20120126T173000Z
DTEND:20120126T180000Z
X-MICROSOFT-CDO-ALLDAYEVENT:FALSE
SUMMARY:Leukemia & Lymphoma Society Ribbon Cutting
DESCRIPTION:Please help us welcome Laura Smidt\, Eastern Iowa Coordinator for the Leukemia & Lymphoma Society\, with a ribbon cutting on Thursday\, January 26th at 11:30am at the Davenport office of the Quad Cities Chamber of Commerce (the office is located at the corner of 2nd Street and Main Street in downtown Davenport).  Although LLS joined the Chamber last year\, the closest representation has been in Iowa City.  Laura is new to the area and will be living and working in Davenport.   The Leukemia & Lymphoma Society’s mission is to cure leukemia\, lymphoma\, Hodgkins disease and myeloma and improve the quality of life of patients and their families.  LLS funds lifesaving blood cancer research around the world and provides free information and support services.
X-ALT-DESC;FMTTYPE=text/html:<DIV><FONT face=Calibri><P style="MARGIN: 0in 0in 0pt" class=MsoNormal>Please help us welcome Laura Smidt\, Eastern Iowa Coordinator for the Leukemia &amp\; Lymphoma Society\, with a ribbon cutting on Thursday\, January 26<SUP>th</SUP> at 11:30am at the Davenport office of the Quad Cities Chamber of Commerce (the office is located at the corner of 2<SUP>nd</SUP> Street and Main Street in downtown Davenport).<SPAN style="mso-spacerun: yes">&nbsp\; </SPAN>Although LLS joined the Chamber last year\, the closest representation has been in Iowa City.<SPAN style="mso-spacerun: yes">&nbsp\; </SPAN>Laura is new to the area and will be living and working in Davenport.<SPAN style="mso-spacerun: yes">&nbsp\;&nbsp\;</SPAN></P><P style="MARGIN: 0in 0in 0pt" class=MsoNormal><SPAN style="mso-spacerun: yes"></SPAN><?xml:namespace prefix = o ns = "urn:schemas-microsoft-com:office:office" /><o:p>&nbsp\;</o:p></P><P style="MARGIN: 0in 0in 0pt" class=MsoNormal>The Leukemia &amp\; Lymphoma Society’s mission is to cure leukemia\, lymphoma\, Hodgkins disease and myeloma and improve the quality of life of patients and their families.<SPAN style="mso-spacerun: yes">&nbsp\; </SPAN>LLS funds lifesaving blood cancer research around the world and provides free information and support services. </P><P style="MARGIN: 0in 0in 0pt" class=MsoNormal>&nbsp\;</P></FONT></DIV>
LOCATION:Quad Cities Chamber - Davenport Office130 W. 2nd Street Davenport\, IA 52801
UID:e.2843.327
SEQUENCE:3
DTSTAMP:20260422T093534Z
URL:https://member.quadcitieschamber.com/events/details/leukemia-lymphoma-society-ribbon-cutting-01-26-2012-327
END:VEVENT

END:VCALENDAR
