BEGIN:VCALENDAR
VERSION:2.0
PRODID:-//ChamberMaster//Event Calendar 2.0//EN
METHOD:PUBLISH
X-PUBLISHED-TTL:P3D
REFRESH-INTERVAL:P3D
CALSCALE:GREGORIAN
BEGIN:VEVENT
DTSTART:20130918T213000Z
DTEND:20130918T220000Z
X-MICROSOFT-CDO-ALLDAYEVENT:FALSE
SUMMARY:Locals Love Us - Quad Cities Grand Opening
DESCRIPTION:Please join owners Ryan Bell and Tim Shea of Locals Love Us – Quad Cities\, in celebrating their grand opening on Wednesday\, September 18th at 4:30 p.m.  The ceremony will be held at Pints Bar & Grill - Located at 5268 Utica Ridge Rd. Davenport\, IA 52807.  http://mapq.st/19ZL0tN  Locals Love Us is a fun new way to support your favorite local businesses in the Quad Cities and win prizes while doing so.  The company utilizes a voting system that asks local people where they do their business.  Once a year they tally the votes\, post the results online and in a printed directory\, and crown 1 to 5 winners in each category.  For more information please visit www.localsloveus.com. Thank you\,
X-ALT-DESC;FMTTYPE=text/html:<DIV style="FONT-FAMILY: Arial"><P style="MARGIN: 0in 0in 0pt" class=MsoNormal><FONT face=Calibri>Please join owners Ryan Bell and Tim Shea of Locals Love Us – Quad Cities\, in celebrating their grand opening on Wednesday\, September 18<SUP>th</SUP> at 4:30 p.m.&nbsp\; The ceremony will be held at Pints Bar &amp\; Grill - Located at 5268 Utica Ridge Rd. Davenport\, IA 52807.&nbsp\; </FONT><A href="http://mapq.st/19ZL0tN"><FONT face="Times New Roman">http://mapq.st/19ZL0tN</FONT></A><FONT face=Calibri> <?xml:namespace prefix = o ns = "urn:schemas-microsoft-com:office:office" /><o:p></o:p></FONT></P><P style="MARGIN: 0in 0in 0pt" class=MsoNormal><o:p><FONT face=Calibri>&nbsp\;</FONT></o:p></P><P style="MARGIN: 0in 0in 0pt" class=MsoNormal><FONT face=Calibri>Locals Love Us is a fun new way to support your favorite local businesses in the Quad Cities and win prizes while doing so.&nbsp\; The company utilizes a voting system that asks local people where they do their business.&nbsp\; Once a year they tally the votes\, post the results online and in a printed directory\, and crown 1 to 5 winners in each category. <o:p></o:p></FONT></P><P style="MARGIN: 0in 0in 0pt" class=MsoNormal><o:p><FONT face=Calibri>&nbsp\;</FONT></o:p></P><P style="MARGIN: 0in 0in 0pt" class=MsoNormal><FONT face=Calibri>For more information please visit </FONT><A href="http://www.localsloveus.com"><FONT face="Times New Roman">www.localsloveus.com</FONT></A><FONT face=Calibri>.<o:p></o:p></FONT></P><P style="MARGIN: 0in 0in 0pt" class=MsoNormal><o:p><FONT face=Calibri>&nbsp\;</FONT></o:p></P><P style="MARGIN: 0in 0in 0pt" class=MsoNormal><FONT face=Calibri>Thank you\,<o:p></o:p></FONT></P></DIV>
LOCATION:Locals Love Us2131 St. David Dr. Bettendorf\, IA 52722
UID:e.2843.685
SEQUENCE:3
DTSTAMP:20260421T201847Z
URL:https://member.quadcitieschamber.com/events/details/locals-love-us-quad-cities-grand-opening-09-18-2013-685
END:VEVENT

END:VCALENDAR
