BEGIN:VCALENDAR
VERSION:2.0
PRODID:-//ChamberMaster//Event Calendar 2.0//EN
METHOD:PUBLISH
X-PUBLISHED-TTL:P3D
REFRESH-INTERVAL:P3D
CALSCALE:GREGORIAN
BEGIN:VEVENT
DTSTART:20140409T213000Z
DTEND:20140409T220000Z
X-MICROSOFT-CDO-ALLDAYEVENT:FALSE
SUMMARY:LogoPro Grand Opening Ribbon Cutting
DESCRIPTION:LogoPro\, 2435 E. Kimberly Rd. Bettendorf\, IA 52722 (Suite 145 South)\,  will be hosting a grand opening ribbon cutting on Wednesday\, April 9th at 4:30pm.  http://mapq.st/1hFJbUv.   LogoPro is a promotional product distributor and proud member of the advertising specialty institute. Promotional products make up a nearly $17 billion dollar industry and are virtually used by every business in America.  LogoPro specializes in embroidery and screen printing apparel including corporate apparel\, team uniforms\, medical uniforms\, spirit wear\, pens\, totes and much more.  Their mission is to help businesses create long-lasting relationships with their clients through the power of promotional products.   For more information\, please visit www.logoproqc.com.
X-ALT-DESC;FMTTYPE=text/html:<FONT face=Calibri><SPAN style="FONT-FAMILY: 'Calibri'\,'sans-serif'\; FONT-SIZE: 11pt\; mso-fareast-font-family: 'Times New Roman'\; mso-bidi-font-family: 'Times New Roman'\; mso-ansi-language: EN-US\; mso-fareast-language: EN-US\; mso-bidi-language: AR-SA"><P style="MARGIN: 0in 0in 0pt" class=MsoNormal><P style="MARGIN: 0in 0in 0pt" class=MsoNormal></P></SPAN></FONT><FONT face=Calibri><P style="MARGIN: 0in 0in 0pt" class=MsoNormal>LogoPro\, 2435 E. Kimberly Rd. Bettendorf\, IA 52722 (Suite 145 South)\,<SPAN style="mso-spacerun: yes">&nbsp\; </SPAN>will be hosting a grand opening ribbon cutting on Wednesday\, April 9<SUP>th</SUP> at 4:30pm.<SPAN style="mso-spacerun: yes">&nbsp\; </SPAN><A href="http://mapq.st/1hFJbUv"><FONT color=#0000ff face="Times New Roman">http://mapq.st/1hFJbUv</FONT></A>.<SPAN style="mso-spacerun: yes">&nbsp\; </SPAN><?xml:namespace prefix = o ns = "urn:schemas-microsoft-com:office:office" /><o:p></o:p></P><P style="MARGIN: 0in 0in 0pt" class=MsoNormal><o:p>&nbsp\;</o:p></P><P style="MARGIN: 0in 0in 0pt" class=MsoNormal>LogoPro is a promotional product distributor and proud member of the advertising specialty institute. Promotional products make up a nearly $17 billion dollar industry and are virtually used by every business in America.<SPAN style="mso-spacerun: yes">&nbsp\; </SPAN>LogoPro specializes in embroidery and screen printing apparel including corporate apparel\, team uniforms\, medical uniforms\, spirit wear\, pens\, totes and much more.<SPAN style="mso-spacerun: yes">&nbsp\; </SPAN>Their mission is to help businesses create long-lasting relationships with their clients through the power of promotional products.<SPAN style="mso-spacerun: yes">&nbsp\; </SPAN><o:p></o:p></P><P style="MARGIN: 0in 0in 0pt" class=MsoNormal><o:p>&nbsp\;</o:p></P><P style="MARGIN: 0in 0in 0pt" class=MsoNormal>For more information\, please visit <A href="http://www.logoproqc.com"><FONT color=#0000ff face="Times New Roman">www.logoproqc.com</FONT></A>.<SPAN style="mso-spacerun: yes">&nbsp\; </SPAN><o:p></o:p></P><P style="MARGIN: 0in 0in 0pt" class=MsoNormal><P style="MARGIN: 0in 0in 0pt" class=MsoNormal><o:p></o:p>&nbsp\;</P><P></FONT></P></P>
LOCATION:LogoPro2435 E. Kimberly Rd. Suite 145 South Bettendorf\, IA 52722
UID:e.2843.788
SEQUENCE:3
DTSTAMP:20260422T080823Z
URL:https://member.quadcitieschamber.com/events/details/logopro-grand-opening-ribbon-cutting-04-09-2014-788
END:VEVENT

END:VCALENDAR
