BEGIN:VCALENDAR
VERSION:2.0
PRODID:-//ChamberMaster//Event Calendar 2.0//EN
METHOD:PUBLISH
X-PUBLISHED-TTL:P3D
REFRESH-INTERVAL:P3D
CALSCALE:GREGORIAN
BEGIN:VEVENT
DTSTART:20200318T223000Z
DTEND:20200319T010000Z
X-MICROSOFT-CDO-ALLDAYEVENT:FALSE
SUMMARY:Look Who's All Grown Up & Ready for a Colonoscopy
DESCRIPTION:Join Dr. Angela Stork and the YES SHE CAN Series as we touch on the yucky subjects of growing up. Dr. Stork will answer questions you didn't want to ask or don't know how to ask! Event will start at 5:30 with program starting at 6:15. Appetizers will be provided. This event is FREE for YES SHE CAN Series members and $15 for the public.
X-ALT-DESC;FMTTYPE=text/html:Join Dr. Angela Stork and the YES SHE CAN Series as we touch on the yucky subjects of growing up. Dr. Stork will answer questions you didn&rsquo\;t want to ask or don&rsquo\;t know how to ask! Event will start at 5:30 with program starting at 6:15. Appetizers will be provided. This event is FREE for YES SHE CAN Series members and $15 for the public.
LOCATION:Midwest Ale Works 537 12th Ave\, East Moline\, IL 61244
UID:e.2843.17781
SEQUENCE:3
DTSTAMP:20260421T221651Z
URL:https://member.quadcitieschamber.com/events/details/look-who-s-all-grown-up-ready-for-a-colonoscopy-17781
END:VEVENT

END:VCALENDAR
