BEGIN:VCALENDAR
VERSION:2.0
PRODID:-//ChamberMaster//Event Calendar 2.0//EN
METHOD:PUBLISH
X-PUBLISHED-TTL:P3D
REFRESH-INTERVAL:P3D
CALSCALE:GREGORIAN
BEGIN:VEVENT
DTSTART:20120515T153000Z
DTEND:20120515T160000Z
X-MICROSOFT-CDO-ALLDAYEVENT:FALSE
SUMMARY:Love's Travel Stop Groundbreaking
DESCRIPTION:Love’s Travel Stops and the City of Davenport will be hosting a ceremonial groundbreaking event at its new location in the Eastern Iowa Industrial Complex\; located off Interstate 80\, Exit 292.  Love’s project manager\, William Gleason\, along with the Mayor of Davenport\, Bill Gluba\, and members of the City Council will turn shovels at 10:30am on Wednesday\, May 16\, at the site.  Construction on the new travel stop is expected to begin in early June\, with a planned opening by the end of 2012. For more information\, please visit www.loves.com.
X-ALT-DESC;FMTTYPE=text/html:<DIV style="FONT-FAMILY: Arial"><P style="MARGIN: 0in 0in 0pt" class=MsoNormal><FONT face=Calibri>Love’s Travel Stops and the City of Davenport will be hosting a ceremonial groundbreaking event at its new location in the Eastern Iowa Industrial Complex\; located off Interstate 80\, Exit 292.<SPAN style="mso-spacerun: yes">&nbsp\; </SPAN>Love’s project manager\, William Gleason\, along with the Mayor of Davenport\, Bill Gluba\, and members of the City Council will turn shovels at 10:30am on Wednesday\, May 16\, at the site.<SPAN style="mso-spacerun: yes">&nbsp\; </SPAN>Construction on the new travel stop is expected to begin in early June\, with a planned opening by the end of 2012.<?xml:namespace prefix = o ns = "urn:schemas-microsoft-com:office:office" /><o:p></o:p></FONT></P><P style="MARGIN: 0in 0in 0pt" class=MsoNormal><o:p><FONT face=Calibri>&nbsp\;</FONT></o:p></P><P style="MARGIN: 0in 0in 0pt" class=MsoNormal><FONT face=Calibri>For more information\, please&nbsp\;visit </FONT><A href="http://www.loves.com"><FONT face="Times New Roman">www.loves.com</FONT></A>.</P></DIV>
LOCATION:Eastern Iowa Industrial Park Complex\, off I-80\, exit 292
UID:e.2843.377
SEQUENCE:3
DTSTAMP:20260422T013204Z
URL:https://member.quadcitieschamber.com/events/details/love-s-travel-stop-groundbreaking-05-15-2012-377
END:VEVENT

END:VCALENDAR
