BEGIN:VCALENDAR
VERSION:2.0
PRODID:-//ChamberMaster//Event Calendar 2.0//EN
METHOD:PUBLISH
X-PUBLISHED-TTL:P3D
REFRESH-INTERVAL:P3D
CALSCALE:GREGORIAN
BEGIN:VEVENT
DTSTART:20130115T160000Z
DTEND:20130115T163000Z
X-MICROSOFT-CDO-ALLDAYEVENT:FALSE
SUMMARY:Love's Travel Stops Ribbon Cutting
DESCRIPTION:Please help Love’s Travel Stops celebrate their grand opening with a ribbon cutting on Tuesday\, January 15th at 10:00am.  Located at 8255 Northwest Blvd in Davenport – Interstate 80\, exit 292 Love’s Travel Stops is a family-owned company based in Oklahoma City with more than 295 locations catering to over-the-road drivers. For more information\, please visit www.loves.com.
X-ALT-DESC;FMTTYPE=text/html:<P style="MARGIN: 0in 0in 0pt" class=MsoNormal><FONT face=Calibri>Please help Love’s Travel Stops celebrate their grand opening with a ribbon cutting on Tuesday\, January 15<SUP>th</SUP> at 10:00am.<SPAN style="mso-spacerun: yes">&nbsp\; </SPAN>Located at 8255 Northwest Blvd in Davenport – Interstate 80\, exit 292</FONT></P><P style="MARGIN: 0in 0in 0pt" class=MsoNormal><?xml:namespace prefix = o ns = "urn:schemas-microsoft-com:office:office" /><o:p><FONT face=Calibri>&nbsp\;</FONT></o:p></P><P style="MARGIN: 0in 0in 0pt" class=MsoNormal><FONT face=Calibri>Love’s Travel Stops is a family-owned company based in Oklahoma City with more than 295 locations catering to over-the-road drivers.</FONT></P><P style="MARGIN: 0in 0in 0pt" class=MsoNormal><o:p><FONT face=Calibri>&nbsp\;</FONT></o:p></P><P style="MARGIN: 0in 0in 0pt" class=MsoNormal><FONT face=Calibri>For more information\, please visit </FONT><A href="http://www.loves.com"><FONT face="Times New Roman">www.loves.com</FONT></A>.</P><DIV>&nbsp\;</DIV>
LOCATION:Love's Travel Stops8255 Northwest Blvd. Davenport\, IA
UID:e.2843.496
SEQUENCE:3
DTSTAMP:20260421T121425Z
URL:https://member.quadcitieschamber.com/events/details/love-s-travel-stops-ribbon-cutting-01-15-2013-496
END:VEVENT

END:VCALENDAR
