BEGIN:VCALENDAR
VERSION:2.0
PRODID:-//ChamberMaster//Event Calendar 2.0//EN
METHOD:PUBLISH
X-PUBLISHED-TTL:P3D
REFRESH-INTERVAL:P3D
CALSCALE:GREGORIAN
BEGIN:VEVENT
DTSTART:20180110T180000Z
DTEND:20180110T190000Z
X-MICROSOFT-CDO-ALLDAYEVENT:FALSE
SUMMARY:Lunch & Learn Event: Downtown Davenport & QC Rental Housing Market Assessment
DESCRIPTION:Interested in learning more about the growing downtown Davenport and Quad Cities rental housing market?  The Downtown Davenport Partnership is hosting a Lunch & Learn meeting with DiSalvo Development Advisors (DDA) highlighting a recently completed regional rental housing market study.  DDA president Pete DiSalvo will discuss how this data is expected to affect downtown Davenport occupancy rates\, projected housing demand\, owner-occupied housing\, rent per-square-foot\, and key amenities.  The presentation will be followed by a Q&A session and lunch will be provided.   \n\n \n\nOhio-based DDA is a real estate consultancy firm providing market research analysis\, strategic planning\, and development consultation on a wide range of real estate issues. Pete DiSalvo has more than 20 years of experience in the real estate consulting industry\, worked in 46 states\, and helped produce the Downtown Davenport 10 Year Strategic Action Plan in 2013.  \n\n\n\nLunch will be provided by Hungry Hobo.
X-ALT-DESC;FMTTYPE=text/html:Interested in learning more about the growing downtown Davenport and Quad Cities rental housing market?&nbsp\; The Downtown Davenport Partnership is hosting a Lunch &amp\; Learn meeting with DiSalvo Development Advisors (DDA) highlighting a recently completed regional rental housing market study.&nbsp\; DDA president Pete DiSalvo will discuss how this data is expected to affect downtown Davenport occupancy rates\, projected housing demand\, owner-occupied housing\, rent per-square-foot\, and key amenities.&nbsp\; The presentation will be followed by a Q&amp\;A session and lunch will be provided. &nbsp\;&nbsp\;<br />\n&nbsp\;<br />\n<span style="background-image:initial\;background-position:initial\;background-size:initial\;background-repeat:initial\;background-attachment:initial\;background-origin:initial\;background-clip:initial\;"><span style="color:black\;">Ohio-based DDA is a real estate consultancy firm providing market research analysis\, strategic planning\, and development consultation on a wide range of real estate issues. Pete DiSalvo has more than 20 years of experience in the real estate consulting industry\, worked in 46 states\, and helped produce the Downtown Davenport 10 Year Strategic Action Plan in 2013.&nbsp\;&nbsp\;<br />\n<br />\nLunch will be provided by Hungry Hobo.</span></span>
LOCATION:River Music Experience 2nd Floor Performance Hall 129 Main St\, Davenport\, IA 52801
UID:e.2843.9913
SEQUENCE:3
DTSTAMP:20260423T165840Z
URL:https://member.quadcitieschamber.com/events/details/lunch-learn-event-downtown-davenport-qc-rental-housing-market-assessment-9913
END:VEVENT

END:VCALENDAR
