BEGIN:VCALENDAR
VERSION:2.0
PRODID:-//ChamberMaster//Event Calendar 2.0//EN
METHOD:PUBLISH
X-PUBLISHED-TTL:P3D
REFRESH-INTERVAL:P3D
CALSCALE:GREGORIAN
BEGIN:VEVENT
DTSTART:20201230T170000Z
DTEND:20201230T210000Z
X-MICROSOFT-CDO-ALLDAYEVENT:FALSE
SUMMARY:Mad Scientist\, Jeff Adamson\, Visits the Putnam
DESCRIPTION:Visit the Putnam's newly re-imagined Science Galleries on December 30 or 31 and you may encounter a familiar looking Mad Scientist! Winner of the Jay Leno Comedy Challenge\, former owner of Comedy Sportz Quad Cities\, and co-founder of G.I.T. Improv\, Jeff Adamson\, will be entertaining visitors at the Putnam. Stop by to play robotic tic tac toe or create a cloud with this comedian who has performed with the likes of Jeff Dunham and Weird Al Yankovic! Jeff's visit celebrates the preview of additional science galleries\, including an exhibit of space technologies and the return of some of your favorite interactives in a new "History of the Future" experience. Our weather and science of art galleries will also be open. Face coverings are required for all visitors and staff at the Putnam. Advanced ticketing is highly encouraged.
X-ALT-DESC;FMTTYPE=text/html:Visit the Putnam&rsquo\;s newly re-imagined Science Galleries on December 30 or 31 and you may encounter a familiar looking Mad Scientist! Winner of the Jay Leno Comedy Challenge\, former owner of Comedy Sportz Quad Cities\, and co-founder of G.I.T. Improv\, Jeff Adamson\, will be entertaining visitors at the Putnam. Stop by to play robotic tic tac toe or create a cloud with this comedian who has performed with the likes of Jeff Dunham and Weird Al Yankovic! Jeff&#39\;s visit celebrates the preview of additional science galleries\, including an exhibit of space technologies and the return of some of your favorite interactives in a new &ldquo\;History of the Future&rdquo\; experience. Our weather and science of art galleries will also be open. Face coverings are required for all visitors and staff at the Putnam. Advanced ticketing is highly encouraged.
LOCATION:Putnam Museum and Science Center
UID:e.2843.18415
SEQUENCE:3
DTSTAMP:20260421T081850Z
URL:https://member.quadcitieschamber.com/events/details/mad-scientist-jeff-adamson-visits-the-putnam-18415
END:VEVENT

END:VCALENDAR
