BEGIN:VCALENDAR
VERSION:2.0
PRODID:-//ChamberMaster//Event Calendar 2.0//EN
METHOD:PUBLISH
X-PUBLISHED-TTL:P3D
REFRESH-INTERVAL:P3D
CALSCALE:GREGORIAN
BEGIN:VEVENT
DTSTART:20130624T160000Z
DTEND:20130624T163000Z
X-MICROSOFT-CDO-ALLDAYEVENT:FALSE
SUMMARY:Main at Locust Pharmacy Clinic & Medical Supplies Ribbon Cutting
DESCRIPTION:Please help Main at Locust celebrate their 52nd Anniversary on Monday\, June 24th at 11:00am – Located at 129 W. Locust Street\, Davenport (on the corner of Main & Locust). Main at Locust Pharmacy\, a local family-owned and operated Quad Cities business\, where “people first” is their motto. They are dedicated to providing the best service possible and the products needed. For more information\, please visit www.mainatlocust.com.
X-ALT-DESC;FMTTYPE=text/html:<P style="MARGIN: 0in 0in 0pt" class=MsoNormal><FONT face=Calibri>Please help Main at Locust celebrate their 52<SUP>nd</SUP> Anniversary on <STRONG>Monday\, June 24<SUP>th</SUP> at 11:00am</STRONG> – Located at 129 W. Locust Street\, Davenport (on the corner of Main &amp\; Locust).<?xml:namespace prefix = o ns = "urn:schemas-microsoft-com:office:office" /><o:p></o:p></FONT></P><P style="MARGIN: 0in 0in 0pt" class=MsoNormal><o:p><FONT face=Calibri>&nbsp\;</FONT></o:p></P><P style="MARGIN: 0in 0in 0pt" class=MsoNormal><FONT face=Calibri>Main at Locust Pharmacy\, a local family-owned and operated Quad Cities business\, where “people first” is their motto. They are dedicated to providing the best service possible and the products needed.<o:p></o:p></FONT></P><P style="MARGIN: 0in 0in 0pt" class=MsoNormal><o:p><FONT face=Calibri>&nbsp\;</FONT></o:p></P><P style="MARGIN: 0in 0in 0pt" class=MsoNormal><FONT face=Calibri>For more information\, please visit </FONT><A href="http://www.mainatlocust.com">www.mainatlocust.com</A><FONT face=Calibri>.<o:p></o:p></FONT></P><DIV style="FONT-FAMILY: Arial">&nbsp\;</DIV>
LOCATION:Main @ Locust Clinic & Pharmacy Supply129 W. Locust St. Davenport\, IA 52803
UID:e.2843.598
SEQUENCE:3
DTSTAMP:20260421T152954Z
URL:https://member.quadcitieschamber.com/events/details/main-at-locust-pharmacy-clinic-medical-supplies-ribbon-cutting-06-24-2013-598
END:VEVENT

END:VCALENDAR
