BEGIN:VCALENDAR
VERSION:2.0
PRODID:-//ChamberMaster//Event Calendar 2.0//EN
METHOD:PUBLISH
X-PUBLISHED-TTL:P3D
REFRESH-INTERVAL:P3D
CALSCALE:GREGORIAN
BEGIN:VEVENT
DTSTART:20200109T140000Z
DTEND:20200109T150000Z
X-MICROSOFT-CDO-ALLDAYEVENT:FALSE
SUMMARY:Making the Change from Windows 7 to 10
DESCRIPTION:Software upgrades should be easy and worth the effort. Get the most out of your upgrade from Microsoft Windows 7 to 10 by attending our January client event led by network engineer Evan Furniss. Evan will demo how to navigate the new look of Windows 10 and how to maximize the new features.
X-ALT-DESC;FMTTYPE=text/html:Software upgrades should be easy and worth the effort. Get the most out of your upgrade from Microsoft Windows 7 to 10 by attending our January client event led by network engineer Evan Furniss. Evan will demo how to navigate the new look of Windows 10 and how to maximize the new features.
LOCATION:3543 E. Kimberly Road\, Davenport\, IA 52807
UID:e.2843.17461
SEQUENCE:3
DTSTAMP:20260422T015108Z
URL:https://member.quadcitieschamber.com/events/details/making-the-change-from-windows-7-to-10-17461
END:VEVENT

END:VCALENDAR
