BEGIN:VCALENDAR
VERSION:2.0
PRODID:-//ChamberMaster//Event Calendar 2.0//EN
METHOD:PUBLISH
X-PUBLISHED-TTL:P3D
REFRESH-INTERVAL:P3D
CALSCALE:GREGORIAN
BEGIN:VEVENT
DTSTART:20190515T133000Z
DTEND:20190516T213000Z
X-MICROSOFT-CDO-ALLDAYEVENT:FALSE
SUMMARY:Managing Project Teams
DESCRIPTION:Focus on the complex skills required to work with people\, including managing project teams at the highest performance levels. Learn meeting management tools and techniques\; motivational and interpersonal skills critical to working with people in a team environment\; tools for identifying personality traits\; methods for recognizing and responding to nonverbal messages and information for understanding and accommodating individual differences.
X-ALT-DESC;FMTTYPE=text/html:Focus on the complex skills required to work with people\, including managing project teams at the highest performance levels. Learn meeting management tools and techniques\; motivational and interpersonal skills critical to working with people in a team environment\; tools for identifying personality traits\; methods for recognizing and responding to nonverbal messages and information for understanding and accommodating individual differences.
LOCATION:1950 E. 54th St.\, Davenport\, IA 52807.
UID:e.2843.14299
SEQUENCE:3
DTSTAMP:20260422T145046Z
URL:https://member.quadcitieschamber.com/events/details/managing-project-teams-14299
END:VEVENT

END:VCALENDAR
